BEGIN:VCALENDAR
VERSION:2.0
PRODID:-//Elevated Yoga - ECPv6.15.2//NONSGML v1.0//EN
CALSCALE:GREGORIAN
METHOD:PUBLISH
X-WR-CALNAME:Elevated Yoga
X-ORIGINAL-URL:https://elevatedyoga.net
X-WR-CALDESC:Events for Elevated Yoga
REFRESH-INTERVAL;VALUE=DURATION:PT1H
X-Robots-Tag:noindex
X-PUBLISHED-TTL:PT1H
BEGIN:VTIMEZONE
TZID:America/Chicago
BEGIN:DAYLIGHT
TZOFFSETFROM:-0600
TZOFFSETTO:-0500
TZNAME:CDT
DTSTART:20260308T080000
END:DAYLIGHT
BEGIN:STANDARD
TZOFFSETFROM:-0500
TZOFFSETTO:-0600
TZNAME:CST
DTSTART:20261101T070000
END:STANDARD
END:VTIMEZONE
BEGIN:VEVENT
DTSTART;TZID=America/Chicago:20260425T091500
DTEND;TZID=America/Chicago:20260425T101500
DTSTAMP:20260425T103023
CREATED:20260401T141812Z
LAST-MODIFIED:20260401T141812Z
UID:21841-1777108500-1777112100@elevatedyoga.net
SUMMARY:Aerial Yoga – Intermediate Level 4/25/2026
DESCRIPTION:Previous Aerial Yoga experience required to register for this class.\nThis class is intermediate level. We start with basic stretches for upper body and legs and then go in inversions to achieve physical and mental decompression. You will also learn to fly\, hold and balance in challenging yoga poses\, become more flexible\, increase joint mobility and decompress the vertebrae of the spine without strain. This class is the most fun whole-body workout. Expect laughter\, gaining more confidence in your abilities and discovering all sorts of dormant muscles in your body. \nPlease check out our Policies and FAQs before registering:\nStudio Policies and FAQ
URL:https://elevatedyoga.net/class/aerial-yoga-intermediate-level-4-25-2026/
LOCATION:Elevated Yoga Studio\, 820 Park Avenue\, Beaver Dam\, WI\, 53916\, United States
CATEGORIES:Aerial Yoga
END:VEVENT
END:VCALENDAR