BEGIN:VCALENDAR
VERSION:2.0
PRODID:-//Elevated Yoga - ECPv6.15.2//NONSGML v1.0//EN
CALSCALE:GREGORIAN
METHOD:PUBLISH
X-WR-CALNAME:Elevated Yoga
X-ORIGINAL-URL:https://elevatedyoga.net
X-WR-CALDESC:Events for Elevated Yoga
REFRESH-INTERVAL;VALUE=DURATION:PT1H
X-Robots-Tag:noindex
X-PUBLISHED-TTL:PT1H
BEGIN:VTIMEZONE
TZID:America/Chicago
BEGIN:DAYLIGHT
TZOFFSETFROM:-0600
TZOFFSETTO:-0500
TZNAME:CDT
DTSTART:20250309T080000
END:DAYLIGHT
BEGIN:STANDARD
TZOFFSETFROM:-0500
TZOFFSETTO:-0600
TZNAME:CST
DTSTART:20251102T070000
END:STANDARD
END:VTIMEZONE
BEGIN:VEVENT
DTSTART;TZID=America/Chicago:20251101T103000
DTEND;TZID=America/Chicago:20251101T113000
DTSTAMP:20260425T074434
CREATED:20241004T173656Z
LAST-MODIFIED:20250926T130023Z
UID:19342-1761993000-1761996600@elevatedyoga.net
SUMMARY:Aroma Restorative Flow
DESCRIPTION:Indulge into some self-care with this yoga class that brings in all the favorite fall scents to enhance our sensory experience! \nIn this accessible to all class we will explore grounding poses and the use of fall scented essential oils in different ways to support our relaxation and connection with the current season. You will end this class with a greater sense of ease\, clarity\, and spaciousness. \nPre-registration is required and it will end one day prior to the class to allow sufficient time for planning.
URL:https://elevatedyoga.net/class/aroma-restorative-flow/
LOCATION:Elevated Yoga Studio\, 820 Park Avenue\, Beaver Dam\, WI\, 53916\, United States
CATEGORIES:Slow Flow Yoga,Vinyasa Flow Yoga
END:VEVENT
BEGIN:VEVENT
DTSTART;TZID=America/Chicago:20251104T163000
DTEND;TZID=America/Chicago:20251104T173000
DTSTAMP:20260425T074434
CREATED:20251007T011246Z
LAST-MODIFIED:20251007T011246Z
UID:21260-1762273800-1762277400@elevatedyoga.net
SUMMARY:Yoga with Silk Stretches - 11/4/2025
DESCRIPTION:The aerial yoga hammock is a very versatile prop and it can be a lot of fun to explore creative ways to incorporate it into our yoga practice without getting off the ground. In this class are looking to deepen the practice through exploration of familiar poses with the aid of the silks. These classes end in a blissful savasana\, cocooned in a hammock. \nPlease check out our Policies and FAQs before registering:\nStudio Policies and FAQ
URL:https://elevatedyoga.net/class/yoga-with-silk-stretches-11-4-2025/
LOCATION:Elevated Yoga Studio\, 820 Park Avenue\, Beaver Dam\, WI\, 53916\, United States
CATEGORIES:Aerial Yoga,Vinyasa Flow Yoga
END:VEVENT
BEGIN:VEVENT
DTSTART;TZID=America/Chicago:20251106T171500
DTEND;TZID=America/Chicago:20251106T181500
DTSTAMP:20260425T074434
CREATED:20251015T192606Z
LAST-MODIFIED:20251015T192606Z
UID:21310-1762449300-1762452900@elevatedyoga.net
SUMMARY:Yoga with Silk Stretches - 11/6/2024
DESCRIPTION:The aerial yoga hammock is a very versatile prop and it can be a lot of fun to explore creative ways to incorporate it into our yoga practice without getting off the ground. In this class are looking to deepen the practice through exploration of familiar poses with the aid of the silks. These classes end in a blissful savasana\, cocooned in a hammock. \nPlease check out our Policies and FAQs before registering:\nStudio Policies and FAQ
URL:https://elevatedyoga.net/class/yoga-with-silk-stretches-11-6-2024/
LOCATION:Elevated Yoga Studio\, 820 Park Avenue\, Beaver Dam\, WI\, 53916\, United States
CATEGORIES:Aerial Yoga,Vinyasa Flow Yoga
END:VEVENT
BEGIN:VEVENT
DTSTART;TZID=America/Chicago:20251107T093000
DTEND;TZID=America/Chicago:20251107T103000
DTSTAMP:20260425T074434
CREATED:20251007T004610Z
LAST-MODIFIED:20251007T004610Z
UID:21235-1762507800-1762511400@elevatedyoga.net
SUMMARY:Vinyasa Flow Yoga (Studio) – 11/7/2025
DESCRIPTION:Clear your mind of stress and find yourself in the present moment! This vinyasa-style class is beginner-friendly and focuses on mindful movement and pairing the poses with breathwork.  We will begin and end each class with a short meditation and you will leave feeling strong\, refreshed\, and ready to slay your busy life! \nPlease check out our Policies and FAQs before registering:\nStudio Policies and FAQ
URL:https://elevatedyoga.net/class/vinyasa-flow-yoga-studio-11-7-2025/
LOCATION:Elevated Yoga Studio\, 820 Park Avenue\, Beaver Dam\, WI\, 53916\, United States
CATEGORIES:Vinyasa Flow Yoga
END:VEVENT
BEGIN:VEVENT
DTSTART;TZID=America/Chicago:20251111T163000
DTEND;TZID=America/Chicago:20251111T173000
DTSTAMP:20260425T074434
CREATED:20251007T011320Z
LAST-MODIFIED:20251007T011320Z
UID:21262-1762878600-1762882200@elevatedyoga.net
SUMMARY:Yoga with Silk Stretches - 11/11/2025
DESCRIPTION:The aerial yoga hammock is a very versatile prop and it can be a lot of fun to explore creative ways to incorporate it into our yoga practice without getting off the ground. In this class are looking to deepen the practice through exploration of familiar poses with the aid of the silks. These classes end in a blissful savasana\, cocooned in a hammock. \nPlease check out our Policies and FAQs before registering:\nStudio Policies and FAQ
URL:https://elevatedyoga.net/class/yoga-with-silk-stretches-11-11-2025/
LOCATION:Elevated Yoga Studio\, 820 Park Avenue\, Beaver Dam\, WI\, 53916\, United States
CATEGORIES:Aerial Yoga,Vinyasa Flow Yoga
END:VEVENT
BEGIN:VEVENT
DTSTART;TZID=America/Chicago:20251113T171500
DTEND;TZID=America/Chicago:20251113T181500
DTSTAMP:20260425T074434
CREATED:20251015T192651Z
LAST-MODIFIED:20251015T192651Z
UID:21312-1763054100-1763057700@elevatedyoga.net
SUMMARY:Yoga with Silk Stretches - 11/13/2024
DESCRIPTION:The aerial yoga hammock is a very versatile prop and it can be a lot of fun to explore creative ways to incorporate it into our yoga practice without getting off the ground. In this class are looking to deepen the practice through exploration of familiar poses with the aid of the silks. These classes end in a blissful savasana\, cocooned in a hammock. \nPlease check out our Policies and FAQs before registering:\nStudio Policies and FAQ
URL:https://elevatedyoga.net/class/yoga-with-silk-stretches-11-13-2024/
LOCATION:Elevated Yoga Studio\, 820 Park Avenue\, Beaver Dam\, WI\, 53916\, United States
CATEGORIES:Aerial Yoga,Vinyasa Flow Yoga
END:VEVENT
BEGIN:VEVENT
DTSTART;TZID=America/Chicago:20251114T093000
DTEND;TZID=America/Chicago:20251114T103000
DTSTAMP:20260425T074434
CREATED:20251007T004706Z
LAST-MODIFIED:20251007T004706Z
UID:21237-1763112600-1763116200@elevatedyoga.net
SUMMARY:Vinyasa Flow Yoga (Studio) – 11/14/2025
DESCRIPTION:Clear your mind of stress and find yourself in the present moment! This vinyasa-style class is beginner-friendly and focuses on mindful movement and pairing the poses with breathwork.  We will begin and end each class with a short meditation and you will leave feeling strong\, refreshed\, and ready to slay your busy life! \nPlease check out our Policies and FAQs before registering:\nStudio Policies and FAQ
URL:https://elevatedyoga.net/class/vinyasa-flow-yoga-studio-11-14-2025/
LOCATION:Elevated Yoga Studio\, 820 Park Avenue\, Beaver Dam\, WI\, 53916\, United States
CATEGORIES:Vinyasa Flow Yoga
END:VEVENT
BEGIN:VEVENT
DTSTART;TZID=America/Chicago:20251118T163000
DTEND;TZID=America/Chicago:20251118T173000
DTSTAMP:20260425T074434
CREATED:20251007T011412Z
LAST-MODIFIED:20251007T011412Z
UID:21264-1763483400-1763487000@elevatedyoga.net
SUMMARY:Yoga with Silk Stretches - 11/18/2025
DESCRIPTION:The aerial yoga hammock is a very versatile prop and it can be a lot of fun to explore creative ways to incorporate it into our yoga practice without getting off the ground. In this class are looking to deepen the practice through exploration of familiar poses with the aid of the silks. These classes end in a blissful savasana\, cocooned in a hammock. \nPlease check out our Policies and FAQs before registering:\nStudio Policies and FAQ
URL:https://elevatedyoga.net/class/yoga-with-silk-stretches-11-18-2025/
LOCATION:Elevated Yoga Studio\, 820 Park Avenue\, Beaver Dam\, WI\, 53916\, United States
CATEGORIES:Aerial Yoga,Vinyasa Flow Yoga
END:VEVENT
BEGIN:VEVENT
DTSTART;TZID=America/Chicago:20251120T171500
DTEND;TZID=America/Chicago:20251120T181500
DTSTAMP:20260425T074434
CREATED:20251015T192752Z
LAST-MODIFIED:20251120T221044Z
UID:21314-1763658900-1763662500@elevatedyoga.net
SUMMARY:Yoga with Silk Stretches - 11/20/2024
DESCRIPTION:The aerial yoga hammock is a very versatile prop and it can be a lot of fun to explore creative ways to incorporate it into our yoga practice without getting off the ground. In this class are looking to deepen the practice through exploration of familiar poses with the aid of the silks. These classes end in a blissful savasana\, cocooned in a hammock. \nPlease check out our Policies and FAQs before registering:\nStudio Policies and FAQ
URL:https://elevatedyoga.net/class/yoga-with-silk-stretches-11-20-2024/
LOCATION:Elevated Yoga Studio\, 820 Park Avenue\, Beaver Dam\, WI\, 53916\, United States
CATEGORIES:Aerial Yoga,Vinyasa Flow Yoga
END:VEVENT
BEGIN:VEVENT
DTSTART;TZID=America/Chicago:20251121T093000
DTEND;TZID=America/Chicago:20251121T103000
DTSTAMP:20260425T074434
CREATED:20251007T004800Z
LAST-MODIFIED:20251121T141739Z
UID:21239-1763717400-1763721000@elevatedyoga.net
SUMMARY:Vinyasa Flow Yoga (Studio) – 11/21/2025
DESCRIPTION:Clear your mind of stress and find yourself in the present moment! This vinyasa-style class is beginner-friendly and focuses on mindful movement and pairing the poses with breathwork.  We will begin and end each class with a short meditation and you will leave feeling strong\, refreshed\, and ready to slay your busy life! \nPlease check out our Policies and FAQs before registering:\nStudio Policies and FAQ
URL:https://elevatedyoga.net/class/vinyasa-flow-yoga-studio-11-21-2025/
LOCATION:Elevated Yoga Studio\, 820 Park Avenue\, Beaver Dam\, WI\, 53916\, United States
CATEGORIES:Vinyasa Flow Yoga
END:VEVENT
BEGIN:VEVENT
DTSTART;TZID=America/Chicago:20251125T163000
DTEND;TZID=America/Chicago:20251125T173000
DTSTAMP:20260425T074434
CREATED:20251007T011507Z
LAST-MODIFIED:20251007T011507Z
UID:21266-1764088200-1764091800@elevatedyoga.net
SUMMARY:Yoga with Silk Stretches - 11/25/2025
DESCRIPTION:The aerial yoga hammock is a very versatile prop and it can be a lot of fun to explore creative ways to incorporate it into our yoga practice without getting off the ground. In this class are looking to deepen the practice through exploration of familiar poses with the aid of the silks. These classes end in a blissful savasana\, cocooned in a hammock. \nPlease check out our Policies and FAQs before registering:\nStudio Policies and FAQ
URL:https://elevatedyoga.net/class/yoga-with-silk-stretches-11-25-2025/
LOCATION:Elevated Yoga Studio\, 820 Park Avenue\, Beaver Dam\, WI\, 53916\, United States
CATEGORIES:Aerial Yoga,Vinyasa Flow Yoga
END:VEVENT
BEGIN:VEVENT
DTSTART;TZID=America/Chicago:20251128T093000
DTEND;TZID=America/Chicago:20251128T103000
DTSTAMP:20260425T074434
CREATED:20251007T004849Z
LAST-MODIFIED:20251123T174324Z
UID:21241-1764322200-1764325800@elevatedyoga.net
SUMMARY:Digest and De-Stress Yoga Flow – 11/28/2025
DESCRIPTION:A calming flow featuring gentle core stretches\, nourishing twists and light movement to stimulate post-feast digestion. \nClear your mind of stress and find yourself in the present moment! This vinyasa-style class is beginner-friendly and focuses on mindful movement and pairing the poses with breathwork.  We will begin and end each class with a short meditation and you will leave feeling strong\, refreshed\, and ready to slay your busy life! \nPlease check out our Policies and FAQs before registering:\nStudio Policies and FAQ
URL:https://elevatedyoga.net/class/vinyasa-flow-yoga-studio-11-28-2025/
LOCATION:Elevated Yoga Studio\, 820 Park Avenue\, Beaver Dam\, WI\, 53916\, United States
CATEGORIES:Vinyasa Flow Yoga
END:VEVENT
END:VCALENDAR