BEGIN:VCALENDAR
VERSION:2.0
PRODID:-//Elevated Yoga - ECPv6.15.2//NONSGML v1.0//EN
CALSCALE:GREGORIAN
METHOD:PUBLISH
X-WR-CALNAME:Elevated Yoga
X-ORIGINAL-URL:https://elevatedyoga.net
X-WR-CALDESC:Events for Elevated Yoga
REFRESH-INTERVAL;VALUE=DURATION:PT1H
X-Robots-Tag:noindex
X-PUBLISHED-TTL:PT1H
BEGIN:VTIMEZONE
TZID:America/Chicago
BEGIN:DAYLIGHT
TZOFFSETFROM:-0600
TZOFFSETTO:-0500
TZNAME:CDT
DTSTART:20250309T080000
END:DAYLIGHT
BEGIN:STANDARD
TZOFFSETFROM:-0500
TZOFFSETTO:-0600
TZNAME:CST
DTSTART:20251102T070000
END:STANDARD
END:VTIMEZONE
BEGIN:VEVENT
DTSTART;TZID=America/Chicago:20251101T103000
DTEND;TZID=America/Chicago:20251101T113000
DTSTAMP:20260425T091213
CREATED:20241004T173656Z
LAST-MODIFIED:20250926T130023Z
UID:19342-1761993000-1761996600@elevatedyoga.net
SUMMARY:Aroma Restorative Flow
DESCRIPTION:Indulge into some self-care with this yoga class that brings in all the favorite fall scents to enhance our sensory experience! \nIn this accessible to all class we will explore grounding poses and the use of fall scented essential oils in different ways to support our relaxation and connection with the current season. You will end this class with a greater sense of ease\, clarity\, and spaciousness. \nPre-registration is required and it will end one day prior to the class to allow sufficient time for planning.
URL:https://elevatedyoga.net/class/aroma-restorative-flow/
LOCATION:Elevated Yoga Studio\, 820 Park Avenue\, Beaver Dam\, WI\, 53916\, United States
CATEGORIES:Slow Flow Yoga,Vinyasa Flow Yoga
END:VEVENT
END:VCALENDAR