BEGIN:VCALENDAR
VERSION:2.0
PRODID:-//Elevated Yoga - ECPv6.15.2//NONSGML v1.0//EN
CALSCALE:GREGORIAN
METHOD:PUBLISH
X-WR-CALNAME:Elevated Yoga
X-ORIGINAL-URL:https://elevatedyoga.net
X-WR-CALDESC:Events for Elevated Yoga
REFRESH-INTERVAL;VALUE=DURATION:PT1H
X-Robots-Tag:noindex
X-PUBLISHED-TTL:PT1H
BEGIN:VTIMEZONE
TZID:America/Chicago
BEGIN:DAYLIGHT
TZOFFSETFROM:-0600
TZOFFSETTO:-0500
TZNAME:CDT
DTSTART:20260308T080000
END:DAYLIGHT
BEGIN:STANDARD
TZOFFSETFROM:-0500
TZOFFSETTO:-0600
TZNAME:CST
DTSTART:20261101T070000
END:STANDARD
END:VTIMEZONE
BEGIN:VEVENT
DTSTART;TZID=America/Chicago:20260310T163000
DTEND;TZID=America/Chicago:20260310T173000
DTSTAMP:20260425T094502
CREATED:20260124T203025Z
LAST-MODIFIED:20260124T203025Z
UID:21645-1773160200-1773163800@elevatedyoga.net
SUMMARY:Yoga with Silk Stretches - 3/10/2026
DESCRIPTION:The aerial yoga hammock is a very versatile prop and it can be a lot of fun to explore creative ways to incorporate it into our yoga practice without getting off the ground. In this class are looking to deepen the practice through exploration of familiar poses with the aid of the silks. These classes end in a blissful savasana\, cocooned in a hammock. \nPlease check out our Policies and FAQs before registering:\nStudio Policies and FAQ
URL:https://elevatedyoga.net/class/yoga-with-silk-stretches-3-10-2026/
LOCATION:Elevated Yoga Studio\, 820 Park Avenue\, Beaver Dam\, WI\, 53916\, United States
CATEGORIES:Aerial Yoga,Vinyasa Flow Yoga
END:VEVENT
BEGIN:VEVENT
DTSTART;TZID=America/Chicago:20260312T171500
DTEND;TZID=America/Chicago:20260312T181500
DTSTAMP:20260425T094502
CREATED:20260217T011934Z
LAST-MODIFIED:20260217T011934Z
UID:21759-1773335700-1773339300@elevatedyoga.net
SUMMARY:Yoga with Silk Stretches - 3/12/2026
DESCRIPTION:The aerial yoga hammock is a very versatile prop and it can be a lot of fun to explore creative ways to incorporate it into our yoga practice without getting off the ground. In this class are looking to deepen the practice through exploration of familiar poses with the aid of the silks. These classes end in a blissful savasana\, cocooned in a hammock. \nPlease check out our Policies and FAQs before registering:\nStudio Policies and FAQ
URL:https://elevatedyoga.net/class/yoga-with-silk-stretches-3-12-2026/
LOCATION:Elevated Yoga Studio\, 820 Park Avenue\, Beaver Dam\, WI\, 53916\, United States
CATEGORIES:Aerial Yoga,Vinyasa Flow Yoga
END:VEVENT
BEGIN:VEVENT
DTSTART;TZID=America/Chicago:20260313T093000
DTEND;TZID=America/Chicago:20260313T103000
DTSTAMP:20260425T094502
CREATED:20260202T173150Z
LAST-MODIFIED:20260202T173150Z
UID:21679-1773394200-1773397800@elevatedyoga.net
SUMMARY:Vinyasa Flow Yoga (Studio) – 3/13/2026
DESCRIPTION:Clear your mind of stress and find yourself in the present moment! This vinyasa-style class is beginner-friendly and focuses on mindful movement and pairing the poses with breathwork.  We will begin and end each class with a short meditation and you will leave feeling strong\, refreshed\, and ready to slay your busy life! \nPlease check out our Policies and FAQs before registering:\nStudio Policies and FAQ
URL:https://elevatedyoga.net/class/vinyasa-flow-yoga-studio-3-13-2026/
LOCATION:Elevated Yoga Studio\, 820 Park Avenue\, Beaver Dam\, WI\, 53916\, United States
CATEGORIES:Vinyasa Flow Yoga
END:VEVENT
BEGIN:VEVENT
DTSTART;TZID=America/Chicago:20260317T163000
DTEND;TZID=America/Chicago:20260317T173000
DTSTAMP:20260425T094502
CREATED:20260124T203108Z
LAST-MODIFIED:20260124T203108Z
UID:21647-1773765000-1773768600@elevatedyoga.net
SUMMARY:Yoga with Silk Stretches - 3/17/2026
DESCRIPTION:The aerial yoga hammock is a very versatile prop and it can be a lot of fun to explore creative ways to incorporate it into our yoga practice without getting off the ground. In this class are looking to deepen the practice through exploration of familiar poses with the aid of the silks. These classes end in a blissful savasana\, cocooned in a hammock. \nPlease check out our Policies and FAQs before registering:\nStudio Policies and FAQ
URL:https://elevatedyoga.net/class/yoga-with-silk-stretches-3-17-2026/
LOCATION:Elevated Yoga Studio\, 820 Park Avenue\, Beaver Dam\, WI\, 53916\, United States
CATEGORIES:Aerial Yoga,Vinyasa Flow Yoga
END:VEVENT
BEGIN:VEVENT
DTSTART;TZID=America/Chicago:20260319T171500
DTEND;TZID=America/Chicago:20260319T181500
DTSTAMP:20260425T094502
CREATED:20260217T012302Z
LAST-MODIFIED:20260217T012609Z
UID:21761-1773940500-1773944100@elevatedyoga.net
SUMMARY:Yoga with Silk Stretches - 3/19/2026
DESCRIPTION:The aerial yoga hammock is a very versatile prop and it can be a lot of fun to explore creative ways to incorporate it into our yoga practice without getting off the ground. In this class are looking to deepen the practice through exploration of familiar poses with the aid of the silks. These classes end in a blissful savasana\, cocooned in a hammock. \nPlease check out our Policies and FAQs before registering:\nStudio Policies and FAQ
URL:https://elevatedyoga.net/class/yoga-with-silk-stretches-3-19-2026/
LOCATION:Elevated Yoga Studio\, 820 Park Avenue\, Beaver Dam\, WI\, 53916\, United States
CATEGORIES:Aerial Yoga,Vinyasa Flow Yoga
END:VEVENT
BEGIN:VEVENT
DTSTART;TZID=America/Chicago:20260320T093000
DTEND;TZID=America/Chicago:20260320T103000
DTSTAMP:20260425T094502
CREATED:20260202T173658Z
LAST-MODIFIED:20260202T173732Z
UID:21681-1773999000-1774002600@elevatedyoga.net
SUMMARY:Vinyasa Flow Yoga (Studio) – 3/20/2026
DESCRIPTION:Clear your mind of stress and find yourself in the present moment! This vinyasa-style class is beginner-friendly and focuses on mindful movement and pairing the poses with breathwork.  This class will leave you feeling strong\, refreshed\, and ready to slay your busy life! \nPlease check out our Policies and FAQs before registering:\nStudio Policies and FAQ
URL:https://elevatedyoga.net/class/vinyasa-flow-yoga-studio-3-20-2026/
LOCATION:Elevated Yoga Studio\, 820 Park Avenue\, Beaver Dam\, WI\, 53916\, United States
CATEGORIES:Vinyasa Flow Yoga
END:VEVENT
BEGIN:VEVENT
DTSTART;TZID=America/Chicago:20260324T163000
DTEND;TZID=America/Chicago:20260324T173000
DTSTAMP:20260425T094502
CREATED:20260124T203535Z
LAST-MODIFIED:20260124T203535Z
UID:21649-1774369800-1774373400@elevatedyoga.net
SUMMARY:Yoga with Silk Stretches - 3/24/2026
DESCRIPTION:The aerial yoga hammock is a very versatile prop and it can be a lot of fun to explore creative ways to incorporate it into our yoga practice without getting off the ground. In this class are looking to deepen the practice through exploration of familiar poses with the aid of the silks. These classes end in a blissful savasana\, cocooned in a hammock. \nPlease check out our Policies and FAQs before registering:\nStudio Policies and FAQ
URL:https://elevatedyoga.net/class/yoga-with-silk-stretches-3-24-2026/
LOCATION:Elevated Yoga Studio\, 820 Park Avenue\, Beaver Dam\, WI\, 53916\, United States
CATEGORIES:Aerial Yoga,Vinyasa Flow Yoga
END:VEVENT
BEGIN:VEVENT
DTSTART;TZID=America/Chicago:20260326T171500
DTEND;TZID=America/Chicago:20260326T181500
DTSTAMP:20260425T094502
CREATED:20260217T012718Z
LAST-MODIFIED:20260217T012718Z
UID:21763-1774545300-1774548900@elevatedyoga.net
SUMMARY:Yoga with Silk Stretches - 3/26/2026
DESCRIPTION:The aerial yoga hammock is a very versatile prop and it can be a lot of fun to explore creative ways to incorporate it into our yoga practice without getting off the ground. In this class are looking to deepen the practice through exploration of familiar poses with the aid of the silks. These classes end in a blissful savasana\, cocooned in a hammock. \nPlease check out our Policies and FAQs before registering:\nStudio Policies and FAQ
URL:https://elevatedyoga.net/class/yoga-with-silk-stretches-3-26-2026/
LOCATION:Elevated Yoga Studio\, 820 Park Avenue\, Beaver Dam\, WI\, 53916\, United States
CATEGORIES:Aerial Yoga,Vinyasa Flow Yoga
END:VEVENT
BEGIN:VEVENT
DTSTART;TZID=America/Chicago:20260327T093000
DTEND;TZID=America/Chicago:20260327T103000
DTSTAMP:20260425T094502
CREATED:20260202T174029Z
LAST-MODIFIED:20260202T174029Z
UID:21683-1774603800-1774607400@elevatedyoga.net
SUMMARY:Vinyasa Flow Yoga (Studio) – 3/27/2026
DESCRIPTION:Clear your mind of stress and find yourself in the present moment! This vinyasa-style class is beginner-friendly and focuses on mindful movement and pairing the poses with breathwork.  This class will leave you feeling strong\, refreshed\, and ready to slay your busy life! \nPlease check out our Policies and FAQs before registering:\nStudio Policies and FAQ
URL:https://elevatedyoga.net/class/vinyasa-flow-yoga-studio-3-27-2026/
LOCATION:Elevated Yoga Studio\, 820 Park Avenue\, Beaver Dam\, WI\, 53916\, United States
CATEGORIES:Vinyasa Flow Yoga
END:VEVENT
BEGIN:VEVENT
DTSTART;TZID=America/Chicago:20260331T163000
DTEND;TZID=America/Chicago:20260331T173000
DTSTAMP:20260425T094502
CREATED:20260124T203655Z
LAST-MODIFIED:20260124T203655Z
UID:21651-1774974600-1774978200@elevatedyoga.net
SUMMARY:Yoga with Silk Stretches - 3/31/2026
DESCRIPTION:The aerial yoga hammock is a very versatile prop and it can be a lot of fun to explore creative ways to incorporate it into our yoga practice without getting off the ground. In this class are looking to deepen the practice through exploration of familiar poses with the aid of the silks. These classes end in a blissful savasana\, cocooned in a hammock. \nPlease check out our Policies and FAQs before registering:\nStudio Policies and FAQ
URL:https://elevatedyoga.net/class/yoga-with-silk-stretches-3-31-2026/
LOCATION:Elevated Yoga Studio\, 820 Park Avenue\, Beaver Dam\, WI\, 53916\, United States
CATEGORIES:Aerial Yoga,Vinyasa Flow Yoga
END:VEVENT
BEGIN:VEVENT
DTSTART;TZID=America/Chicago:20260402T171500
DTEND;TZID=America/Chicago:20260402T181500
DTSTAMP:20260425T094502
CREATED:20260217T014234Z
LAST-MODIFIED:20260217T014234Z
UID:21765-1775150100-1775153700@elevatedyoga.net
SUMMARY:Yoga with Silk Stretches - 4/2/2026
DESCRIPTION:The aerial yoga hammock is a very versatile prop and it can be a lot of fun to explore creative ways to incorporate it into our yoga practice without getting off the ground. In this class are looking to deepen the practice through exploration of familiar poses with the aid of the silks. These classes end in a blissful savasana\, cocooned in a hammock. \nPlease check out our Policies and FAQs before registering:\nStudio Policies and FAQ
URL:https://elevatedyoga.net/class/yoga-with-silk-stretches-4-2-2026/
LOCATION:Elevated Yoga Studio\, 820 Park Avenue\, Beaver Dam\, WI\, 53916\, United States
CATEGORIES:Aerial Yoga,Vinyasa Flow Yoga
END:VEVENT
BEGIN:VEVENT
DTSTART;TZID=America/Chicago:20260403T093000
DTEND;TZID=America/Chicago:20260403T103000
DTSTAMP:20260425T094502
CREATED:20260202T174156Z
LAST-MODIFIED:20260202T174156Z
UID:21685-1775208600-1775212200@elevatedyoga.net
SUMMARY:Vinyasa Flow Yoga (Studio) – 4/3/2026
DESCRIPTION:Clear your mind of stress and find yourself in the present moment! This vinyasa-style class is beginner-friendly and focuses on mindful movement and pairing the poses with breathwork.  This class will leave you feeling strong\, refreshed\, and ready to slay your busy life! \nPlease check out our Policies and FAQs before registering:\nStudio Policies and FAQ
URL:https://elevatedyoga.net/class/vinyasa-flow-yoga-studio-4-3-2026/
LOCATION:Elevated Yoga Studio\, 820 Park Avenue\, Beaver Dam\, WI\, 53916\, United States
CATEGORIES:Vinyasa Flow Yoga
END:VEVENT
BEGIN:VEVENT
DTSTART;TZID=America/Chicago:20260407T163000
DTEND;TZID=America/Chicago:20260407T173000
DTSTAMP:20260425T094502
CREATED:20260124T203753Z
LAST-MODIFIED:20260124T203753Z
UID:21653-1775579400-1775583000@elevatedyoga.net
SUMMARY:Yoga with Silk Stretches - 4/7/2026
DESCRIPTION:The aerial yoga hammock is a very versatile prop and it can be a lot of fun to explore creative ways to incorporate it into our yoga practice without getting off the ground. In this class are looking to deepen the practice through exploration of familiar poses with the aid of the silks. These classes end in a blissful savasana\, cocooned in a hammock. \nPlease check out our Policies and FAQs before registering:\nStudio Policies and FAQ
URL:https://elevatedyoga.net/class/yoga-with-silk-stretches-4-7-2026/
LOCATION:Elevated Yoga Studio\, 820 Park Avenue\, Beaver Dam\, WI\, 53916\, United States
CATEGORIES:Aerial Yoga,Vinyasa Flow Yoga
END:VEVENT
BEGIN:VEVENT
DTSTART;TZID=America/Chicago:20260409T171500
DTEND;TZID=America/Chicago:20260409T181500
DTSTAMP:20260425T094502
CREATED:20260217T014406Z
LAST-MODIFIED:20260217T014406Z
UID:21767-1775754900-1775758500@elevatedyoga.net
SUMMARY:Yoga with Silk Stretches - 4/9/2026
DESCRIPTION:The aerial yoga hammock is a very versatile prop and it can be a lot of fun to explore creative ways to incorporate it into our yoga practice without getting off the ground. In this class are looking to deepen the practice through exploration of familiar poses with the aid of the silks. These classes end in a blissful savasana\, cocooned in a hammock. \nPlease check out our Policies and FAQs before registering:\nStudio Policies and FAQ
URL:https://elevatedyoga.net/class/yoga-with-silk-stretches-4-9-2026/
LOCATION:Elevated Yoga Studio\, 820 Park Avenue\, Beaver Dam\, WI\, 53916\, United States
CATEGORIES:Aerial Yoga,Vinyasa Flow Yoga
END:VEVENT
BEGIN:VEVENT
DTSTART;TZID=America/Chicago:20260410T103000
DTEND;TZID=America/Chicago:20260410T113000
DTSTAMP:20260425T094502
CREATED:20260320T130432Z
LAST-MODIFIED:20260409T131507Z
UID:21800-1775817000-1775820600@elevatedyoga.net
SUMMARY:Vinyasa Flow Yoga (Studio) – 4/10/2026
DESCRIPTION:Clear your mind of stress and find yourself in the present moment! This vinyasa-style class is beginner-friendly and focuses on mindful movement and pairing the poses with breathwork.  This class will leave you feeling strong\, refreshed\, and ready to slay your busy life! \nPlease check out our Policies and FAQs before registering:\nStudio Policies and FAQ
URL:https://elevatedyoga.net/class/vinyasa-flow-yoga-studio-4-10-2026/
LOCATION:Elevated Yoga Studio\, 820 Park Avenue\, Beaver Dam\, WI\, 53916\, United States
CATEGORIES:Vinyasa Flow Yoga
END:VEVENT
BEGIN:VEVENT
DTSTART;TZID=America/Chicago:20260414T163000
DTEND;TZID=America/Chicago:20260414T173000
DTSTAMP:20260425T094502
CREATED:20260212T221016Z
LAST-MODIFIED:20260212T221016Z
UID:21728-1776184200-1776187800@elevatedyoga.net
SUMMARY:Yoga with Silk Stretches - 4/14/2026
DESCRIPTION:The aerial yoga hammock is a very versatile prop and it can be a lot of fun to explore creative ways to incorporate it into our yoga practice without getting off the ground. In this class are looking to deepen the practice through exploration of familiar poses with the aid of the silks. These classes end in a blissful savasana\, cocooned in a hammock. \nPlease check out our Policies and FAQs before registering:\nStudio Policies and FAQ
URL:https://elevatedyoga.net/class/yoga-with-silk-stretches-4-14-2026/
LOCATION:Elevated Yoga Studio\, 820 Park Avenue\, Beaver Dam\, WI\, 53916\, United States
CATEGORIES:Aerial Yoga,Vinyasa Flow Yoga
END:VEVENT
BEGIN:VEVENT
DTSTART;TZID=America/Chicago:20260416T171500
DTEND;TZID=America/Chicago:20260416T181500
DTSTAMP:20260425T094502
CREATED:20260217T014511Z
LAST-MODIFIED:20260217T014511Z
UID:21769-1776359700-1776363300@elevatedyoga.net
SUMMARY:Yoga with Silk Stretches - 4/16/2026
DESCRIPTION:The aerial yoga hammock is a very versatile prop and it can be a lot of fun to explore creative ways to incorporate it into our yoga practice without getting off the ground. In this class are looking to deepen the practice through exploration of familiar poses with the aid of the silks. These classes end in a blissful savasana\, cocooned in a hammock. \nPlease check out our Policies and FAQs before registering:\nStudio Policies and FAQ
URL:https://elevatedyoga.net/class/yoga-with-silk-stretches-4-16-2026/
LOCATION:Elevated Yoga Studio\, 820 Park Avenue\, Beaver Dam\, WI\, 53916\, United States
CATEGORIES:Aerial Yoga,Vinyasa Flow Yoga
END:VEVENT
BEGIN:VEVENT
DTSTART;TZID=America/Chicago:20260417T093000
DTEND;TZID=America/Chicago:20260417T103000
DTSTAMP:20260425T094502
CREATED:20260320T130527Z
LAST-MODIFIED:20260320T130527Z
UID:21802-1776418200-1776421800@elevatedyoga.net
SUMMARY:Vinyasa Flow Yoga (Studio) – 4/17/2026
DESCRIPTION:Clear your mind of stress and find yourself in the present moment! This vinyasa-style class is beginner-friendly and focuses on mindful movement and pairing the poses with breathwork.  This class will leave you feeling strong\, refreshed\, and ready to slay your busy life! \nPlease check out our Policies and FAQs before registering:\nStudio Policies and FAQ
URL:https://elevatedyoga.net/class/vinyasa-flow-yoga-studio-4-17-2026/
LOCATION:Elevated Yoga Studio\, 820 Park Avenue\, Beaver Dam\, WI\, 53916\, United States
CATEGORIES:Vinyasa Flow Yoga
END:VEVENT
BEGIN:VEVENT
DTSTART;TZID=America/Chicago:20260421T163000
DTEND;TZID=America/Chicago:20260421T173000
DTSTAMP:20260425T094502
CREATED:20260212T221102Z
LAST-MODIFIED:20260212T221102Z
UID:21730-1776789000-1776792600@elevatedyoga.net
SUMMARY:Yoga with Silk Stretches - 4/21/2026
DESCRIPTION:The aerial yoga hammock is a very versatile prop and it can be a lot of fun to explore creative ways to incorporate it into our yoga practice without getting off the ground. In this class are looking to deepen the practice through exploration of familiar poses with the aid of the silks. These classes end in a blissful savasana\, cocooned in a hammock. \nPlease check out our Policies and FAQs before registering:\nStudio Policies and FAQ
URL:https://elevatedyoga.net/class/yoga-with-silk-stretches-4-21-2026/
LOCATION:Elevated Yoga Studio\, 820 Park Avenue\, Beaver Dam\, WI\, 53916\, United States
CATEGORIES:Aerial Yoga,Vinyasa Flow Yoga
END:VEVENT
BEGIN:VEVENT
DTSTART;TZID=America/Chicago:20260423T171500
DTEND;TZID=America/Chicago:20260423T181500
DTSTAMP:20260425T094502
CREATED:20260217T014624Z
LAST-MODIFIED:20260217T014624Z
UID:21771-1776964500-1776968100@elevatedyoga.net
SUMMARY:Yoga with Silk Stretches - 4/23/2026
DESCRIPTION:The aerial yoga hammock is a very versatile prop and it can be a lot of fun to explore creative ways to incorporate it into our yoga practice without getting off the ground. In this class are looking to deepen the practice through exploration of familiar poses with the aid of the silks. These classes end in a blissful savasana\, cocooned in a hammock. \nPlease check out our Policies and FAQs before registering:\nStudio Policies and FAQ
URL:https://elevatedyoga.net/class/yoga-with-silk-stretches-4-23-2026/
LOCATION:Elevated Yoga Studio\, 820 Park Avenue\, Beaver Dam\, WI\, 53916\, United States
CATEGORIES:Aerial Yoga,Vinyasa Flow Yoga
END:VEVENT
BEGIN:VEVENT
DTSTART;TZID=America/Chicago:20260424T093000
DTEND;TZID=America/Chicago:20260424T103000
DTSTAMP:20260425T094502
CREATED:20260320T130633Z
LAST-MODIFIED:20260320T130633Z
UID:21804-1777023000-1777026600@elevatedyoga.net
SUMMARY:Vinyasa Flow Yoga (Studio) – 4/24/2026
DESCRIPTION:Clear your mind of stress and find yourself in the present moment! This vinyasa-style class is beginner-friendly and focuses on mindful movement and pairing the poses with breathwork.  This class will leave you feeling strong\, refreshed\, and ready to slay your busy life! \nPlease check out our Policies and FAQs before registering:\nStudio Policies and FAQ
URL:https://elevatedyoga.net/class/vinyasa-flow-yoga-studio-4-24-2026/
LOCATION:Elevated Yoga Studio\, 820 Park Avenue\, Beaver Dam\, WI\, 53916\, United States
CATEGORIES:Vinyasa Flow Yoga
END:VEVENT
BEGIN:VEVENT
DTSTART;TZID=America/Chicago:20260428T163000
DTEND;TZID=America/Chicago:20260428T173000
DTSTAMP:20260425T094502
CREATED:20260212T221141Z
LAST-MODIFIED:20260212T221141Z
UID:21732-1777393800-1777397400@elevatedyoga.net
SUMMARY:Yoga with Silk Stretches - 4/28/2026
DESCRIPTION:The aerial yoga hammock is a very versatile prop and it can be a lot of fun to explore creative ways to incorporate it into our yoga practice without getting off the ground. In this class are looking to deepen the practice through exploration of familiar poses with the aid of the silks. These classes end in a blissful savasana\, cocooned in a hammock. \nPlease check out our Policies and FAQs before registering:\nStudio Policies and FAQ
URL:https://elevatedyoga.net/class/yoga-with-silk-stretches-4-28-2026/
LOCATION:Elevated Yoga Studio\, 820 Park Avenue\, Beaver Dam\, WI\, 53916\, United States
CATEGORIES:Aerial Yoga,Vinyasa Flow Yoga
END:VEVENT
BEGIN:VEVENT
DTSTART;TZID=America/Chicago:20260430T171500
DTEND;TZID=America/Chicago:20260430T181500
DTSTAMP:20260425T094502
CREATED:20260217T014741Z
LAST-MODIFIED:20260217T014741Z
UID:21773-1777569300-1777572900@elevatedyoga.net
SUMMARY:Yoga with Silk Stretches - 4/30/2026
DESCRIPTION:The aerial yoga hammock is a very versatile prop and it can be a lot of fun to explore creative ways to incorporate it into our yoga practice without getting off the ground. In this class are looking to deepen the practice through exploration of familiar poses with the aid of the silks. These classes end in a blissful savasana\, cocooned in a hammock. \nPlease check out our Policies and FAQs before registering:\nStudio Policies and FAQ
URL:https://elevatedyoga.net/class/yoga-with-silk-stretches-4-30-2026/
LOCATION:Elevated Yoga Studio\, 820 Park Avenue\, Beaver Dam\, WI\, 53916\, United States
CATEGORIES:Aerial Yoga,Vinyasa Flow Yoga
END:VEVENT
BEGIN:VEVENT
DTSTART;TZID=America/Chicago:20260501T093000
DTEND;TZID=America/Chicago:20260501T103000
DTSTAMP:20260425T094502
CREATED:20260320T130751Z
LAST-MODIFIED:20260320T130751Z
UID:21806-1777627800-1777631400@elevatedyoga.net
SUMMARY:Vinyasa Flow Yoga (Studio) – 5/1/2026
DESCRIPTION:Clear your mind of stress and find yourself in the present moment! This vinyasa-style class is beginner-friendly and focuses on mindful movement and pairing the poses with breathwork.  This class will leave you feeling strong\, refreshed\, and ready to slay your busy life! \nPlease check out our Policies and FAQs before registering:\nStudio Policies and FAQ
URL:https://elevatedyoga.net/class/vinyasa-flow-yoga-studio-5-1-2026/
LOCATION:Elevated Yoga Studio\, 820 Park Avenue\, Beaver Dam\, WI\, 53916\, United States
CATEGORIES:Vinyasa Flow Yoga
END:VEVENT
BEGIN:VEVENT
DTSTART;TZID=America/Chicago:20260505T163000
DTEND;TZID=America/Chicago:20260505T173000
DTSTAMP:20260425T094502
CREATED:20260421T174413Z
LAST-MODIFIED:20260421T174413Z
UID:21932-1777998600-1778002200@elevatedyoga.net
SUMMARY:Yoga with Silk Stretches - 5/5/2026
DESCRIPTION:The aerial yoga hammock is a very versatile prop and it can be a lot of fun to explore creative ways to incorporate it into our yoga practice without getting off the ground. In this class are looking to deepen the practice through exploration of familiar poses with the aid of the silks. These classes end in a blissful savasana\, cocooned in a hammock. \nPlease check out our Policies and FAQs before registering:\nStudio Policies and FAQ
URL:https://elevatedyoga.net/class/yoga-with-silk-stretches-5-5-2026/
LOCATION:Elevated Yoga Studio\, 820 Park Avenue\, Beaver Dam\, WI\, 53916\, United States
CATEGORIES:Aerial Yoga,Vinyasa Flow Yoga
END:VEVENT
BEGIN:VEVENT
DTSTART;TZID=America/Chicago:20260508T093000
DTEND;TZID=America/Chicago:20260508T103000
DTSTAMP:20260425T094502
CREATED:20260320T130851Z
LAST-MODIFIED:20260320T130851Z
UID:21808-1778232600-1778236200@elevatedyoga.net
SUMMARY:Vinyasa Flow Yoga (Studio) – 5/8/2026
DESCRIPTION:Clear your mind of stress and find yourself in the present moment! This vinyasa-style class is beginner-friendly and focuses on mindful movement and pairing the poses with breathwork.  This class will leave you feeling strong\, refreshed\, and ready to slay your busy life! \nPlease check out our Policies and FAQs before registering:\nStudio Policies and FAQ
URL:https://elevatedyoga.net/class/vinyasa-flow-yoga-studio-5-8-2026/
LOCATION:Elevated Yoga Studio\, 820 Park Avenue\, Beaver Dam\, WI\, 53916\, United States
CATEGORIES:Vinyasa Flow Yoga
END:VEVENT
BEGIN:VEVENT
DTSTART;TZID=America/Chicago:20260512T163000
DTEND;TZID=America/Chicago:20260512T173000
DTSTAMP:20260425T094502
CREATED:20260421T174505Z
LAST-MODIFIED:20260421T174505Z
UID:21934-1778603400-1778607000@elevatedyoga.net
SUMMARY:Yoga with Silk Stretches - 5/12/2026
DESCRIPTION:The aerial yoga hammock is a very versatile prop and it can be a lot of fun to explore creative ways to incorporate it into our yoga practice without getting off the ground. In this class are looking to deepen the practice through exploration of familiar poses with the aid of the silks. These classes end in a blissful savasana\, cocooned in a hammock. \nPlease check out our Policies and FAQs before registering:\nStudio Policies and FAQ
URL:https://elevatedyoga.net/class/yoga-with-silk-stretches-5-12-2026/
LOCATION:Elevated Yoga Studio\, 820 Park Avenue\, Beaver Dam\, WI\, 53916\, United States
CATEGORIES:Aerial Yoga,Vinyasa Flow Yoga
END:VEVENT
BEGIN:VEVENT
DTSTART;TZID=America/Chicago:20260515T093000
DTEND;TZID=America/Chicago:20260515T103000
DTSTAMP:20260425T094502
CREATED:20260404T220752Z
LAST-MODIFIED:20260404T220752Z
UID:21867-1778837400-1778841000@elevatedyoga.net
SUMMARY:Vinyasa Flow Yoga (Studio) – 5/15/2026
DESCRIPTION:Clear your mind of stress and find yourself in the present moment! This vinyasa-style class is beginner-friendly and focuses on mindful movement and pairing the poses with breathwork.  This class will leave you feeling strong\, refreshed\, and ready to slay your busy life! \nPlease check out our Policies and FAQs before registering:\nStudio Policies and FAQ
URL:https://elevatedyoga.net/class/vinyasa-flow-yoga-studio-5-15-2026/
LOCATION:Elevated Yoga Studio\, 820 Park Avenue\, Beaver Dam\, WI\, 53916\, United States
CATEGORIES:Vinyasa Flow Yoga
END:VEVENT
BEGIN:VEVENT
DTSTART;TZID=America/Chicago:20260519T163000
DTEND;TZID=America/Chicago:20260519T173000
DTSTAMP:20260425T094502
CREATED:20260421T174613Z
LAST-MODIFIED:20260421T174613Z
UID:21936-1779208200-1779211800@elevatedyoga.net
SUMMARY:Yoga with Silk Stretches - 5/19/2026
DESCRIPTION:The aerial yoga hammock is a very versatile prop and it can be a lot of fun to explore creative ways to incorporate it into our yoga practice without getting off the ground. In this class are looking to deepen the practice through exploration of familiar poses with the aid of the silks. These classes end in a blissful savasana\, cocooned in a hammock. \nPlease check out our Policies and FAQs before registering:\nStudio Policies and FAQ
URL:https://elevatedyoga.net/class/yoga-with-silk-stretches-5-19-2026/
LOCATION:Elevated Yoga Studio\, 820 Park Avenue\, Beaver Dam\, WI\, 53916\, United States
CATEGORIES:Aerial Yoga,Vinyasa Flow Yoga
END:VEVENT
BEGIN:VEVENT
DTSTART;TZID=America/Chicago:20260522T093000
DTEND;TZID=America/Chicago:20260522T103000
DTSTAMP:20260425T094502
CREATED:20260404T220902Z
LAST-MODIFIED:20260404T220902Z
UID:21869-1779442200-1779445800@elevatedyoga.net
SUMMARY:Vinyasa Flow Yoga (Studio) – 5/22/2026
DESCRIPTION:Clear your mind of stress and find yourself in the present moment! This vinyasa-style class is beginner-friendly and focuses on mindful movement and pairing the poses with breathwork.  This class will leave you feeling strong\, refreshed\, and ready to slay your busy life! \nPlease check out our Policies and FAQs before registering:\nStudio Policies and FAQ
URL:https://elevatedyoga.net/class/vinyasa-flow-yoga-studio-5-22-2026/
LOCATION:Elevated Yoga Studio\, 820 Park Avenue\, Beaver Dam\, WI\, 53916\, United States
CATEGORIES:Vinyasa Flow Yoga
END:VEVENT
END:VCALENDAR