BEGIN:VCALENDAR
VERSION:2.0
PRODID:-//Elevated Yoga - ECPv6.15.2//NONSGML v1.0//EN
CALSCALE:GREGORIAN
METHOD:PUBLISH
X-ORIGINAL-URL:https://elevatedyoga.net
X-WR-CALDESC:Events for Elevated Yoga
REFRESH-INTERVAL;VALUE=DURATION:PT1H
X-Robots-Tag:noindex
X-PUBLISHED-TTL:PT1H
BEGIN:VTIMEZONE
TZID:America/Chicago
BEGIN:DAYLIGHT
TZOFFSETFROM:-0600
TZOFFSETTO:-0500
TZNAME:CDT
DTSTART:20250309T080000
END:DAYLIGHT
BEGIN:STANDARD
TZOFFSETFROM:-0500
TZOFFSETTO:-0600
TZNAME:CST
DTSTART:20251102T070000
END:STANDARD
BEGIN:DAYLIGHT
TZOFFSETFROM:-0600
TZOFFSETTO:-0500
TZNAME:CDT
DTSTART:20260308T080000
END:DAYLIGHT
BEGIN:STANDARD
TZOFFSETFROM:-0500
TZOFFSETTO:-0600
TZNAME:CST
DTSTART:20261101T070000
END:STANDARD
END:VTIMEZONE
BEGIN:VEVENT
DTSTART;TZID=America/Chicago:20251120T171500
DTEND;TZID=America/Chicago:20251120T181500
DTSTAMP:20260425T214456
CREATED:20251015T192752Z
LAST-MODIFIED:20251120T221044Z
UID:21314-1763658900-1763662500@elevatedyoga.net
SUMMARY:Yoga with Silk Stretches - 11/20/2024
DESCRIPTION:The aerial yoga hammock is a very versatile prop and it can be a lot of fun to explore creative ways to incorporate it into our yoga practice without getting off the ground. In this class are looking to deepen the practice through exploration of familiar poses with the aid of the silks. These classes end in a blissful savasana\, cocooned in a hammock. \nPlease check out our Policies and FAQs before registering:\nStudio Policies and FAQ
URL:https://elevatedyoga.net/class/yoga-with-silk-stretches-11-20-2024/
LOCATION:Elevated Yoga Studio\, 820 Park Avenue\, Beaver Dam\, WI\, 53916\, United States
CATEGORIES:Aerial Yoga,Vinyasa Flow Yoga
END:VEVENT
BEGIN:VEVENT
DTSTART;TZID=America/Chicago:20251121T093000
DTEND;TZID=America/Chicago:20251121T103000
DTSTAMP:20260425T214456
CREATED:20251007T004800Z
LAST-MODIFIED:20251121T141739Z
UID:21239-1763717400-1763721000@elevatedyoga.net
SUMMARY:Vinyasa Flow Yoga (Studio) – 11/21/2025
DESCRIPTION:Clear your mind of stress and find yourself in the present moment! This vinyasa-style class is beginner-friendly and focuses on mindful movement and pairing the poses with breathwork.  We will begin and end each class with a short meditation and you will leave feeling strong\, refreshed\, and ready to slay your busy life! \nPlease check out our Policies and FAQs before registering:\nStudio Policies and FAQ
URL:https://elevatedyoga.net/class/vinyasa-flow-yoga-studio-11-21-2025/
LOCATION:Elevated Yoga Studio\, 820 Park Avenue\, Beaver Dam\, WI\, 53916\, United States
CATEGORIES:Vinyasa Flow Yoga
END:VEVENT
BEGIN:VEVENT
DTSTART;TZID=America/Chicago:20251125T163000
DTEND;TZID=America/Chicago:20251125T173000
DTSTAMP:20260425T214456
CREATED:20251007T011507Z
LAST-MODIFIED:20251007T011507Z
UID:21266-1764088200-1764091800@elevatedyoga.net
SUMMARY:Yoga with Silk Stretches - 11/25/2025
DESCRIPTION:The aerial yoga hammock is a very versatile prop and it can be a lot of fun to explore creative ways to incorporate it into our yoga practice without getting off the ground. In this class are looking to deepen the practice through exploration of familiar poses with the aid of the silks. These classes end in a blissful savasana\, cocooned in a hammock. \nPlease check out our Policies and FAQs before registering:\nStudio Policies and FAQ
URL:https://elevatedyoga.net/class/yoga-with-silk-stretches-11-25-2025/
LOCATION:Elevated Yoga Studio\, 820 Park Avenue\, Beaver Dam\, WI\, 53916\, United States
CATEGORIES:Aerial Yoga,Vinyasa Flow Yoga
END:VEVENT
BEGIN:VEVENT
DTSTART;TZID=America/Chicago:20251128T093000
DTEND;TZID=America/Chicago:20251128T103000
DTSTAMP:20260425T214456
CREATED:20251007T004849Z
LAST-MODIFIED:20251123T174324Z
UID:21241-1764322200-1764325800@elevatedyoga.net
SUMMARY:Digest and De-Stress Yoga Flow – 11/28/2025
DESCRIPTION:A calming flow featuring gentle core stretches\, nourishing twists and light movement to stimulate post-feast digestion. \nClear your mind of stress and find yourself in the present moment! This vinyasa-style class is beginner-friendly and focuses on mindful movement and pairing the poses with breathwork.  We will begin and end each class with a short meditation and you will leave feeling strong\, refreshed\, and ready to slay your busy life! \nPlease check out our Policies and FAQs before registering:\nStudio Policies and FAQ
URL:https://elevatedyoga.net/class/vinyasa-flow-yoga-studio-11-28-2025/
LOCATION:Elevated Yoga Studio\, 820 Park Avenue\, Beaver Dam\, WI\, 53916\, United States
CATEGORIES:Vinyasa Flow Yoga
END:VEVENT
BEGIN:VEVENT
DTSTART;TZID=America/Chicago:20251202T163000
DTEND;TZID=America/Chicago:20251202T173000
DTSTAMP:20260425T214456
CREATED:20251007T011639Z
LAST-MODIFIED:20251007T011639Z
UID:21268-1764693000-1764696600@elevatedyoga.net
SUMMARY:Yoga with Silk Stretches - 12/2/2025
DESCRIPTION:The aerial yoga hammock is a very versatile prop and it can be a lot of fun to explore creative ways to incorporate it into our yoga practice without getting off the ground. In this class are looking to deepen the practice through exploration of familiar poses with the aid of the silks. These classes end in a blissful savasana\, cocooned in a hammock. \nPlease check out our Policies and FAQs before registering:\nStudio Policies and FAQ
URL:https://elevatedyoga.net/class/yoga-with-silk-stretches-12-2-2025/
LOCATION:Elevated Yoga Studio\, 820 Park Avenue\, Beaver Dam\, WI\, 53916\, United States
CATEGORIES:Aerial Yoga,Vinyasa Flow Yoga
END:VEVENT
BEGIN:VEVENT
DTSTART;TZID=America/Chicago:20251204T171500
DTEND;TZID=America/Chicago:20251204T181500
DTSTAMP:20260425T214456
CREATED:20251015T192852Z
LAST-MODIFIED:20251015T192852Z
UID:21316-1764868500-1764872100@elevatedyoga.net
SUMMARY:Yoga with Silk Stretches - 12/4/2024
DESCRIPTION:The aerial yoga hammock is a very versatile prop and it can be a lot of fun to explore creative ways to incorporate it into our yoga practice without getting off the ground. In this class are looking to deepen the practice through exploration of familiar poses with the aid of the silks. These classes end in a blissful savasana\, cocooned in a hammock. \nPlease check out our Policies and FAQs before registering:\nStudio Policies and FAQ
URL:https://elevatedyoga.net/class/yoga-with-silk-stretches-12-4-2024/
LOCATION:Elevated Yoga Studio\, 820 Park Avenue\, Beaver Dam\, WI\, 53916\, United States
CATEGORIES:Aerial Yoga,Vinyasa Flow Yoga
END:VEVENT
BEGIN:VEVENT
DTSTART;TZID=America/Chicago:20251205T093000
DTEND;TZID=America/Chicago:20251205T103000
DTSTAMP:20260425T214456
CREATED:20251007T004951Z
LAST-MODIFIED:20251007T004951Z
UID:21243-1764927000-1764930600@elevatedyoga.net
SUMMARY:Vinyasa Flow Yoga (Studio) – 12/5/2025
DESCRIPTION:Clear your mind of stress and find yourself in the present moment! This vinyasa-style class is beginner-friendly and focuses on mindful movement and pairing the poses with breathwork.  We will begin and end each class with a short meditation and you will leave feeling strong\, refreshed\, and ready to slay your busy life! \nPlease check out our Policies and FAQs before registering:\nStudio Policies and FAQ
URL:https://elevatedyoga.net/class/vinyasa-flow-yoga-studio-12-5-2025/
LOCATION:Elevated Yoga Studio\, 820 Park Avenue\, Beaver Dam\, WI\, 53916\, United States
CATEGORIES:Vinyasa Flow Yoga
END:VEVENT
BEGIN:VEVENT
DTSTART;TZID=America/Chicago:20251209T163000
DTEND;TZID=America/Chicago:20251209T173000
DTSTAMP:20260425T214456
CREATED:20251015T194132Z
LAST-MODIFIED:20251015T194132Z
UID:21322-1765297800-1765301400@elevatedyoga.net
SUMMARY:Yoga with Silk Stretches - 12/9/2025
DESCRIPTION:The aerial yoga hammock is a very versatile prop and it can be a lot of fun to explore creative ways to incorporate it into our yoga practice without getting off the ground. In this class are looking to deepen the practice through exploration of familiar poses with the aid of the silks. These classes end in a blissful savasana\, cocooned in a hammock. \nPlease check out our Policies and FAQs before registering:\nStudio Policies and FAQ
URL:https://elevatedyoga.net/class/yoga-with-silk-stretches-12-9-2025/
LOCATION:Elevated Yoga Studio\, 820 Park Avenue\, Beaver Dam\, WI\, 53916\, United States
CATEGORIES:Aerial Yoga,Vinyasa Flow Yoga
END:VEVENT
BEGIN:VEVENT
DTSTART;TZID=America/Chicago:20251211T171500
DTEND;TZID=America/Chicago:20251211T181500
DTSTAMP:20260425T214456
CREATED:20251015T193310Z
LAST-MODIFIED:20251015T193310Z
UID:21318-1765473300-1765476900@elevatedyoga.net
SUMMARY:Yoga with Silk Stretches - 12/11/2024
DESCRIPTION:The aerial yoga hammock is a very versatile prop and it can be a lot of fun to explore creative ways to incorporate it into our yoga practice without getting off the ground. In this class are looking to deepen the practice through exploration of familiar poses with the aid of the silks. These classes end in a blissful savasana\, cocooned in a hammock. \nPlease check out our Policies and FAQs before registering:\nStudio Policies and FAQ
URL:https://elevatedyoga.net/class/yoga-with-silk-stretches-12-11-2024/
LOCATION:Elevated Yoga Studio\, 820 Park Avenue\, Beaver Dam\, WI\, 53916\, United States
CATEGORIES:Aerial Yoga,Vinyasa Flow Yoga
END:VEVENT
BEGIN:VEVENT
DTSTART;TZID=America/Chicago:20251212T093000
DTEND;TZID=America/Chicago:20251212T103000
DTSTAMP:20260425T214456
CREATED:20251007T005051Z
LAST-MODIFIED:20251007T005051Z
UID:21245-1765531800-1765535400@elevatedyoga.net
SUMMARY:Vinyasa Flow Yoga (Studio) – 12/12/2025
DESCRIPTION:Clear your mind of stress and find yourself in the present moment! This vinyasa-style class is beginner-friendly and focuses on mindful movement and pairing the poses with breathwork.  We will begin and end each class with a short meditation and you will leave feeling strong\, refreshed\, and ready to slay your busy life! \nPlease check out our Policies and FAQs before registering:\nStudio Policies and FAQ
URL:https://elevatedyoga.net/class/vinyasa-flow-yoga-studio-12-12-2025/
LOCATION:Elevated Yoga Studio\, 820 Park Avenue\, Beaver Dam\, WI\, 53916\, United States
CATEGORIES:Vinyasa Flow Yoga
END:VEVENT
BEGIN:VEVENT
DTSTART;TZID=America/Chicago:20251216T163000
DTEND;TZID=America/Chicago:20251216T173000
DTSTAMP:20260425T214456
CREATED:20251015T194218Z
LAST-MODIFIED:20251015T194218Z
UID:21324-1765902600-1765906200@elevatedyoga.net
SUMMARY:Yoga with Silk Stretches - 12/16/2025
DESCRIPTION:The aerial yoga hammock is a very versatile prop and it can be a lot of fun to explore creative ways to incorporate it into our yoga practice without getting off the ground. In this class are looking to deepen the practice through exploration of familiar poses with the aid of the silks. These classes end in a blissful savasana\, cocooned in a hammock. \nPlease check out our Policies and FAQs before registering:\nStudio Policies and FAQ
URL:https://elevatedyoga.net/class/yoga-with-silk-stretches-12-16-2025/
LOCATION:Elevated Yoga Studio\, 820 Park Avenue\, Beaver Dam\, WI\, 53916\, United States
CATEGORIES:Aerial Yoga,Vinyasa Flow Yoga
END:VEVENT
BEGIN:VEVENT
DTSTART;TZID=America/Chicago:20251219T093000
DTEND;TZID=America/Chicago:20251219T103000
DTSTAMP:20260425T214456
CREATED:20251007T005146Z
LAST-MODIFIED:20251007T005146Z
UID:21247-1766136600-1766140200@elevatedyoga.net
SUMMARY:Vinyasa Flow Yoga (Studio) – 12/19/2025
DESCRIPTION:Clear your mind of stress and find yourself in the present moment! This vinyasa-style class is beginner-friendly and focuses on mindful movement and pairing the poses with breathwork.  We will begin and end each class with a short meditation and you will leave feeling strong\, refreshed\, and ready to slay your busy life! \nPlease check out our Policies and FAQs before registering:\nStudio Policies and FAQ
URL:https://elevatedyoga.net/class/vinyasa-flow-yoga-studio-12-19-2025/
LOCATION:Elevated Yoga Studio\, 820 Park Avenue\, Beaver Dam\, WI\, 53916\, United States
CATEGORIES:Vinyasa Flow Yoga
END:VEVENT
BEGIN:VEVENT
DTSTART;TZID=America/Chicago:20251223T163000
DTEND;TZID=America/Chicago:20251223T173000
DTSTAMP:20260425T214456
CREATED:20251015T194325Z
LAST-MODIFIED:20251015T194325Z
UID:21326-1766507400-1766511000@elevatedyoga.net
SUMMARY:Yoga with Silk Stretches - 12/23/2025
DESCRIPTION:The aerial yoga hammock is a very versatile prop and it can be a lot of fun to explore creative ways to incorporate it into our yoga practice without getting off the ground. In this class are looking to deepen the practice through exploration of familiar poses with the aid of the silks. These classes end in a blissful savasana\, cocooned in a hammock. \nPlease check out our Policies and FAQs before registering:\nStudio Policies and FAQ
URL:https://elevatedyoga.net/class/yoga-with-silk-stretches-12-23-2025/
LOCATION:Elevated Yoga Studio\, 820 Park Avenue\, Beaver Dam\, WI\, 53916\, United States
CATEGORIES:Aerial Yoga,Vinyasa Flow Yoga
END:VEVENT
BEGIN:VEVENT
DTSTART;TZID=America/Chicago:20251226T093000
DTEND;TZID=America/Chicago:20251226T103000
DTSTAMP:20260425T214456
CREATED:20251007T005428Z
LAST-MODIFIED:20251222T143245Z
UID:21249-1766741400-1766745000@elevatedyoga.net
SUMMARY:Vinyasa Flow Yoga (Studio) – 12/26/2025
DESCRIPTION:Clear your mind of stress and find yourself in the present moment! This vinyasa-style class is beginner-friendly and focuses on mindful movement and pairing the poses with breathwork.  We will begin and end each class with a short meditation and you will leave feeling strong\, refreshed\, and ready to slay your busy life! \nPlease check out our Policies and FAQs before registering:\nStudio Policies and FAQ
URL:https://elevatedyoga.net/class/vinyasa-flow-yoga-studio-12-26-2025/
LOCATION:Elevated Yoga Studio\, 820 Park Avenue\, Beaver Dam\, WI\, 53916\, United States
CATEGORIES:Vinyasa Flow Yoga
END:VEVENT
BEGIN:VEVENT
DTSTART;TZID=America/Chicago:20251230T163000
DTEND;TZID=America/Chicago:20251230T173000
DTSTAMP:20260425T214456
CREATED:20251015T194510Z
LAST-MODIFIED:20251015T194510Z
UID:21328-1767112200-1767115800@elevatedyoga.net
SUMMARY:Yoga with Silk Stretches - 12/30/2025
DESCRIPTION:The aerial yoga hammock is a very versatile prop and it can be a lot of fun to explore creative ways to incorporate it into our yoga practice without getting off the ground. In this class are looking to deepen the practice through exploration of familiar poses with the aid of the silks. These classes end in a blissful savasana\, cocooned in a hammock. \nPlease check out our Policies and FAQs before registering:\nStudio Policies and FAQ
URL:https://elevatedyoga.net/class/yoga-with-silk-stretches-12-30-2025/
LOCATION:Elevated Yoga Studio\, 820 Park Avenue\, Beaver Dam\, WI\, 53916\, United States
CATEGORIES:Aerial Yoga,Vinyasa Flow Yoga
END:VEVENT
BEGIN:VEVENT
DTSTART;TZID=America/Chicago:20260102T093000
DTEND;TZID=America/Chicago:20260102T103000
DTSTAMP:20260425T214456
CREATED:20251018T191843Z
LAST-MODIFIED:20251018T192611Z
UID:21345-1767346200-1767349800@elevatedyoga.net
SUMMARY:Vinyasa Flow Yoga (Studio) – 1/2/2026
DESCRIPTION:Clear your mind of stress and find yourself in the present moment! This vinyasa-style class is beginner-friendly and focuses on mindful movement and pairing the poses with breathwork.  We will begin and end each class with a short meditation and you will leave feeling strong\, refreshed\, and ready to slay your busy life! \nPlease check out our Policies and FAQs before registering:\nStudio Policies and FAQ
URL:https://elevatedyoga.net/class/vinyasa-flow-yoga-studio-1-2-2026/
LOCATION:Elevated Yoga Studio\, 820 Park Avenue\, Beaver Dam\, WI\, 53916\, United States
CATEGORIES:Vinyasa Flow Yoga
END:VEVENT
BEGIN:VEVENT
DTSTART;TZID=America/Chicago:20260106T163000
DTEND;TZID=America/Chicago:20260106T173000
DTSTAMP:20260425T214456
CREATED:20251218T041445Z
LAST-MODIFIED:20251218T041445Z
UID:21474-1767717000-1767720600@elevatedyoga.net
SUMMARY:Yoga with Silk Stretches - 1/6/2026
DESCRIPTION:The aerial yoga hammock is a very versatile prop and it can be a lot of fun to explore creative ways to incorporate it into our yoga practice without getting off the ground. In this class are looking to deepen the practice through exploration of familiar poses with the aid of the silks. These classes end in a blissful savasana\, cocooned in a hammock. \nPlease check out our Policies and FAQs before registering:\nStudio Policies and FAQ
URL:https://elevatedyoga.net/class/yoga-with-silk-stretches-1-6-2026/
LOCATION:Elevated Yoga Studio\, 820 Park Avenue\, Beaver Dam\, WI\, 53916\, United States
CATEGORIES:Aerial Yoga,Vinyasa Flow Yoga
END:VEVENT
BEGIN:VEVENT
DTSTART;TZID=America/Chicago:20260115T171500
DTEND;TZID=America/Chicago:20260115T181500
DTSTAMP:20260425T214456
CREATED:20251015T193719Z
LAST-MODIFIED:20251218T035621Z
UID:21320-1768497300-1768500900@elevatedyoga.net
SUMMARY:Yoga with Silk Stretches - 1/15/2026
DESCRIPTION:The aerial yoga hammock is a very versatile prop and it can be a lot of fun to explore creative ways to incorporate it into our yoga practice without getting off the ground. In this class are looking to deepen the practice through exploration of familiar poses with the aid of the silks. These classes end in a blissful savasana\, cocooned in a hammock. \nPlease check out our Policies and FAQs before registering:\nStudio Policies and FAQ
URL:https://elevatedyoga.net/class/yoga-with-silk-stretches-12-18-2024/
LOCATION:Elevated Yoga Studio\, 820 Park Avenue\, Beaver Dam\, WI\, 53916\, United States
CATEGORIES:Aerial Yoga,Vinyasa Flow Yoga
END:VEVENT
BEGIN:VEVENT
DTSTART;TZID=America/Chicago:20260116T093000
DTEND;TZID=America/Chicago:20260116T103000
DTSTAMP:20260425T214456
CREATED:20251018T191947Z
LAST-MODIFIED:20251018T191947Z
UID:21347-1768555800-1768559400@elevatedyoga.net
SUMMARY:Vinyasa Flow Yoga (Studio) – 1/16/2026
DESCRIPTION:Clear your mind of stress and find yourself in the present moment! This vinyasa-style class is beginner-friendly and focuses on mindful movement and pairing the poses with breathwork.  We will begin and end each class with a short meditation and you will leave feeling strong\, refreshed\, and ready to slay your busy life! \nPlease check out our Policies and FAQs before registering:\nStudio Policies and FAQ
URL:https://elevatedyoga.net/class/vinyasa-flow-yoga-studio-1-16-2026/
LOCATION:Elevated Yoga Studio\, 820 Park Avenue\, Beaver Dam\, WI\, 53916\, United States
CATEGORIES:Vinyasa Flow Yoga
END:VEVENT
BEGIN:VEVENT
DTSTART;TZID=America/Chicago:20260120T163000
DTEND;TZID=America/Chicago:20260120T173000
DTSTAMP:20260425T214456
CREATED:20251218T041532Z
LAST-MODIFIED:20251218T041532Z
UID:21476-1768926600-1768930200@elevatedyoga.net
SUMMARY:Yoga with Silk Stretches - 1/20/2026
DESCRIPTION:The aerial yoga hammock is a very versatile prop and it can be a lot of fun to explore creative ways to incorporate it into our yoga practice without getting off the ground. In this class are looking to deepen the practice through exploration of familiar poses with the aid of the silks. These classes end in a blissful savasana\, cocooned in a hammock. \nPlease check out our Policies and FAQs before registering:\nStudio Policies and FAQ
URL:https://elevatedyoga.net/class/yoga-with-silk-stretches-1-20-2026/
LOCATION:Elevated Yoga Studio\, 820 Park Avenue\, Beaver Dam\, WI\, 53916\, United States
CATEGORIES:Aerial Yoga,Vinyasa Flow Yoga
END:VEVENT
BEGIN:VEVENT
DTSTART;TZID=America/Chicago:20260122T171500
DTEND;TZID=America/Chicago:20260122T181500
DTSTAMP:20260425T214456
CREATED:20251218T035719Z
LAST-MODIFIED:20260122T190419Z
UID:21450-1769102100-1769105700@elevatedyoga.net
SUMMARY:Yoga with Silk Stretches - 1/22/2026
DESCRIPTION:The aerial yoga hammock is a very versatile prop and it can be a lot of fun to explore creative ways to incorporate it into our yoga practice without getting off the ground. In this class are looking to deepen the practice through exploration of familiar poses with the aid of the silks. These classes end in a blissful savasana\, cocooned in a hammock. \nPlease check out our Policies and FAQs before registering:\nStudio Policies and FAQ
URL:https://elevatedyoga.net/class/yoga-with-silk-stretches-1-22-2026/
LOCATION:Elevated Yoga Studio\, 820 Park Avenue\, Beaver Dam\, WI\, 53916\, United States
CATEGORIES:Aerial Yoga,Vinyasa Flow Yoga
END:VEVENT
BEGIN:VEVENT
DTSTART;TZID=America/Chicago:20260123T093000
DTEND;TZID=America/Chicago:20260123T103000
DTSTAMP:20260425T214456
CREATED:20251018T192131Z
LAST-MODIFIED:20251018T192131Z
UID:21349-1769160600-1769164200@elevatedyoga.net
SUMMARY:Vinyasa Flow Yoga (Studio) – 1/23/2026
DESCRIPTION:Clear your mind of stress and find yourself in the present moment! This vinyasa-style class is beginner-friendly and focuses on mindful movement and pairing the poses with breathwork.  We will begin and end each class with a short meditation and you will leave feeling strong\, refreshed\, and ready to slay your busy life! \nPlease check out our Policies and FAQs before registering:\nStudio Policies and FAQ
URL:https://elevatedyoga.net/class/vinyasa-flow-yoga-studio-1-23-2026/
LOCATION:Elevated Yoga Studio\, 820 Park Avenue\, Beaver Dam\, WI\, 53916\, United States
CATEGORIES:Vinyasa Flow Yoga
END:VEVENT
BEGIN:VEVENT
DTSTART;TZID=America/Chicago:20260127T163000
DTEND;TZID=America/Chicago:20260127T173000
DTSTAMP:20260425T214456
CREATED:20251218T041625Z
LAST-MODIFIED:20251218T041625Z
UID:21478-1769531400-1769535000@elevatedyoga.net
SUMMARY:Yoga with Silk Stretches - 1/27/2026
DESCRIPTION:The aerial yoga hammock is a very versatile prop and it can be a lot of fun to explore creative ways to incorporate it into our yoga practice without getting off the ground. In this class are looking to deepen the practice through exploration of familiar poses with the aid of the silks. These classes end in a blissful savasana\, cocooned in a hammock. \nPlease check out our Policies and FAQs before registering:\nStudio Policies and FAQ
URL:https://elevatedyoga.net/class/yoga-with-silk-stretches-1-27-2026/
LOCATION:Elevated Yoga Studio\, 820 Park Avenue\, Beaver Dam\, WI\, 53916\, United States
CATEGORIES:Aerial Yoga,Vinyasa Flow Yoga
END:VEVENT
BEGIN:VEVENT
DTSTART;TZID=America/Chicago:20260129T171500
DTEND;TZID=America/Chicago:20260129T181500
DTSTAMP:20260425T214456
CREATED:20251218T035800Z
LAST-MODIFIED:20251218T035800Z
UID:21452-1769706900-1769710500@elevatedyoga.net
SUMMARY:Yoga with Silk Stretches - 1/29/2026
DESCRIPTION:The aerial yoga hammock is a very versatile prop and it can be a lot of fun to explore creative ways to incorporate it into our yoga practice without getting off the ground. In this class are looking to deepen the practice through exploration of familiar poses with the aid of the silks. These classes end in a blissful savasana\, cocooned in a hammock. \nPlease check out our Policies and FAQs before registering:\nStudio Policies and FAQ
URL:https://elevatedyoga.net/class/yoga-with-silk-stretches-1-29-2026/
LOCATION:Elevated Yoga Studio\, 820 Park Avenue\, Beaver Dam\, WI\, 53916\, United States
CATEGORIES:Aerial Yoga,Vinyasa Flow Yoga
END:VEVENT
BEGIN:VEVENT
DTSTART;TZID=America/Chicago:20260130T093000
DTEND;TZID=America/Chicago:20260130T103000
DTSTAMP:20260425T214456
CREATED:20251222T171550Z
LAST-MODIFIED:20260121T141555Z
UID:21539-1769765400-1769769000@elevatedyoga.net
SUMMARY:Vinyasa Flow Yoga (Studio) – 1/30/2026
DESCRIPTION:Clear your mind of stress and find yourself in the present moment! This vinyasa-style class is beginner-friendly and focuses on mindful movement and pairing the poses with breathwork.  We will begin and end each class with a short meditation and you will leave feeling strong\, refreshed\, and ready to slay your busy life! \nPlease check out our Policies and FAQs before registering:\nStudio Policies and FAQ
URL:https://elevatedyoga.net/class/vinyasa-flow-yoga-studio-1-30-2026-2/
LOCATION:Elevated Yoga Studio\, 820 Park Avenue\, Beaver Dam\, WI\, 53916\, United States
CATEGORIES:Vinyasa Flow Yoga
END:VEVENT
BEGIN:VEVENT
DTSTART;TZID=America/Chicago:20260203T163000
DTEND;TZID=America/Chicago:20260203T173000
DTSTAMP:20260425T214456
CREATED:20251218T041709Z
LAST-MODIFIED:20260203T144929Z
UID:21480-1770136200-1770139800@elevatedyoga.net
SUMMARY:Yoga with Silk Stretches - 2/3/2026
DESCRIPTION:The aerial yoga hammock is a very versatile prop and it can be a lot of fun to explore creative ways to incorporate it into our yoga practice without getting off the ground. In this class are looking to deepen the practice through exploration of familiar poses with the aid of the silks. These classes end in a blissful savasana\, cocooned in a hammock. \nPlease check out our Policies and FAQs before registering:\nStudio Policies and FAQ
URL:https://elevatedyoga.net/class/yoga-with-silk-stretches-2-3-2026/
LOCATION:Elevated Yoga Studio\, 820 Park Avenue\, Beaver Dam\, WI\, 53916\, United States
CATEGORIES:Aerial Yoga,Vinyasa Flow Yoga
END:VEVENT
BEGIN:VEVENT
DTSTART;TZID=America/Chicago:20260205T171500
DTEND;TZID=America/Chicago:20260205T181500
DTSTAMP:20260425T214456
CREATED:20251218T035841Z
LAST-MODIFIED:20251218T035841Z
UID:21454-1770311700-1770315300@elevatedyoga.net
SUMMARY:Yoga with Silk Stretches - 2/5/2026
DESCRIPTION:The aerial yoga hammock is a very versatile prop and it can be a lot of fun to explore creative ways to incorporate it into our yoga practice without getting off the ground. In this class are looking to deepen the practice through exploration of familiar poses with the aid of the silks. These classes end in a blissful savasana\, cocooned in a hammock. \nPlease check out our Policies and FAQs before registering:\nStudio Policies and FAQ
URL:https://elevatedyoga.net/class/yoga-with-silk-stretches-2-5-2026/
LOCATION:Elevated Yoga Studio\, 820 Park Avenue\, Beaver Dam\, WI\, 53916\, United States
CATEGORIES:Aerial Yoga,Vinyasa Flow Yoga
END:VEVENT
BEGIN:VEVENT
DTSTART;TZID=America/Chicago:20260206T093000
DTEND;TZID=America/Chicago:20260206T103000
DTSTAMP:20260425T214456
CREATED:20251018T192403Z
LAST-MODIFIED:20260121T141719Z
UID:21351-1770370200-1770373800@elevatedyoga.net
SUMMARY:Vinyasa Flow Yoga (Studio) – 2/6/2026
DESCRIPTION:Clear your mind of stress and find yourself in the present moment! This vinyasa-style class is beginner-friendly and focuses on mindful movement and pairing the poses with breathwork.  We will begin and end each class with a short meditation and you will leave feeling strong\, refreshed\, and ready to slay your busy life! \nPlease check out our Policies and FAQs before registering:\nStudio Policies and FAQ
URL:https://elevatedyoga.net/class/vinyasa-flow-yoga-studio-1-30-2026/
LOCATION:Elevated Yoga Studio\, 820 Park Avenue\, Beaver Dam\, WI\, 53916\, United States
CATEGORIES:Vinyasa Flow Yoga
END:VEVENT
BEGIN:VEVENT
DTSTART;TZID=America/Chicago:20260210T163000
DTEND;TZID=America/Chicago:20260210T173000
DTSTAMP:20260425T214456
CREATED:20251222T152027Z
LAST-MODIFIED:20260203T145613Z
UID:21504-1770741000-1770744600@elevatedyoga.net
SUMMARY:Yoga with Silk Stretches - 2/10/2026
DESCRIPTION:The aerial yoga hammock is a very versatile prop and it can be a lot of fun to explore creative ways to incorporate it into our yoga practice without getting off the ground. In this class are looking to deepen the practice through exploration of familiar poses with the aid of the silks. These classes end in a blissful savasana\, cocooned in a hammock. \nPlease check out our Policies and FAQs before registering:\nStudio Policies and FAQ
URL:https://elevatedyoga.net/class/yoga-with-silk-stretches-2-10-2026/
LOCATION:Elevated Yoga Studio\, 820 Park Avenue\, Beaver Dam\, WI\, 53916\, United States
CATEGORIES:Aerial Yoga,Vinyasa Flow Yoga
END:VEVENT
BEGIN:VEVENT
DTSTART;TZID=America/Chicago:20260212T171500
DTEND;TZID=America/Chicago:20260212T181500
DTSTAMP:20260425T214456
CREATED:20260122T191708Z
LAST-MODIFIED:20260201T181837Z
UID:21600-1770916500-1770920100@elevatedyoga.net
SUMMARY:Yoga with Silk Stretches - 2/12/2026
DESCRIPTION:The aerial yoga hammock is a very versatile prop and it can be a lot of fun to explore creative ways to incorporate it into our yoga practice without getting off the ground. In this class are looking to deepen the practice through exploration of familiar poses with the aid of the silks. These classes end in a blissful savasana\, cocooned in a hammock. \nPlease check out our Policies and FAQs before registering:\nStudio Policies and FAQ
URL:https://elevatedyoga.net/class/yoga-with-silk-stretches-2-12-2026/
LOCATION:Elevated Yoga Studio\, 820 Park Avenue\, Beaver Dam\, WI\, 53916\, United States
CATEGORIES:Aerial Yoga,Vinyasa Flow Yoga
END:VEVENT
END:VCALENDAR