BEGIN:VCALENDAR
VERSION:2.0
PRODID:-//Elevated Yoga - ECPv6.15.2//NONSGML v1.0//EN
CALSCALE:GREGORIAN
METHOD:PUBLISH
X-ORIGINAL-URL:https://elevatedyoga.net
X-WR-CALDESC:Events for Elevated Yoga
REFRESH-INTERVAL;VALUE=DURATION:PT1H
X-Robots-Tag:noindex
X-PUBLISHED-TTL:PT1H
BEGIN:VTIMEZONE
TZID:America/Chicago
BEGIN:DAYLIGHT
TZOFFSETFROM:-0600
TZOFFSETTO:-0500
TZNAME:CDT
DTSTART:20260308T080000
END:DAYLIGHT
BEGIN:STANDARD
TZOFFSETFROM:-0500
TZOFFSETTO:-0600
TZNAME:CST
DTSTART:20261101T070000
END:STANDARD
END:VTIMEZONE
BEGIN:VEVENT
DTSTART;TZID=America/Chicago:20260602T163000
DTEND;TZID=America/Chicago:20260602T173000
DTSTAMP:20260423T143743
CREATED:20260421T174918Z
LAST-MODIFIED:20260421T174918Z
UID:21940-1780417800-1780421400@elevatedyoga.net
SUMMARY:Yoga with Silk Stretches - 6/2/2026
DESCRIPTION:The aerial yoga hammock is a very versatile prop and it can be a lot of fun to explore creative ways to incorporate it into our yoga practice without getting off the ground. In this class are looking to deepen the practice through exploration of familiar poses with the aid of the silks. These classes end in a blissful savasana\, cocooned in a hammock. \nPlease check out our Policies and FAQs before registering:\nStudio Policies and FAQ
URL:https://elevatedyoga.net/class/yoga-with-silk-stretches-6-2-2026/
LOCATION:Elevated Yoga Studio\, 820 Park Avenue\, Beaver Dam\, WI\, 53916\, United States
CATEGORIES:Aerial Yoga,Vinyasa Flow Yoga
END:VEVENT
BEGIN:VEVENT
DTSTART;TZID=America/Chicago:20260609T163000
DTEND;TZID=America/Chicago:20260609T173000
DTSTAMP:20260423T143743
CREATED:20260421T175149Z
LAST-MODIFIED:20260421T175149Z
UID:21942-1781022600-1781026200@elevatedyoga.net
SUMMARY:Yoga with Silk Stretches - 6/9/2026
DESCRIPTION:The aerial yoga hammock is a very versatile prop and it can be a lot of fun to explore creative ways to incorporate it into our yoga practice without getting off the ground. In this class are looking to deepen the practice through exploration of familiar poses with the aid of the silks. These classes end in a blissful savasana\, cocooned in a hammock. \nPlease check out our Policies and FAQs before registering:\nStudio Policies and FAQ
URL:https://elevatedyoga.net/class/yoga-with-silk-stretches-6-9-2026/
LOCATION:Elevated Yoga Studio\, 820 Park Avenue\, Beaver Dam\, WI\, 53916\, United States
CATEGORIES:Aerial Yoga,Vinyasa Flow Yoga
END:VEVENT
END:VCALENDAR