BEGIN:VCALENDAR
VERSION:2.0
PRODID:-//Elevated Yoga - ECPv6.15.2//NONSGML v1.0//EN
CALSCALE:GREGORIAN
METHOD:PUBLISH
X-WR-CALNAME:Elevated Yoga
X-ORIGINAL-URL:https://elevatedyoga.net
X-WR-CALDESC:Events for Elevated Yoga
REFRESH-INTERVAL;VALUE=DURATION:PT1H
X-Robots-Tag:noindex
X-PUBLISHED-TTL:PT1H
BEGIN:VTIMEZONE
TZID:America/Chicago
BEGIN:DAYLIGHT
TZOFFSETFROM:-0600
TZOFFSETTO:-0500
TZNAME:CDT
DTSTART:20250309T080000
END:DAYLIGHT
BEGIN:STANDARD
TZOFFSETFROM:-0500
TZOFFSETTO:-0600
TZNAME:CST
DTSTART:20251102T070000
END:STANDARD
END:VTIMEZONE
BEGIN:VEVENT
DTSTART;TZID=America/Chicago:20250815T093000
DTEND;TZID=America/Chicago:20250815T103000
DTSTAMP:20260423T160214
CREATED:20250614T195438Z
LAST-MODIFIED:20250614T195438Z
UID:20847-1755250200-1755253800@elevatedyoga.net
SUMMARY:Vinyasa Flow Yoga (Studio) – 8/15/2025
DESCRIPTION:Clear your mind of stress and find yourself in the present moment! This vinyasa-style class is beginner-friendly and focuses on mindful movement and pairing the poses with breathwork.  We will begin and end each class with a short meditation and you will leave feeling strong\, refreshed\, and ready to slay your busy life! \nPlease check out our Policies and FAQs before registering:\nStudio Policies and FAQ
URL:https://elevatedyoga.net/class/vinyasa-flow-yoga-studio-8-15-2025/
LOCATION:Elevated Yoga Studio\, 820 Park Avenue\, Beaver Dam\, WI\, 53916\, United States
CATEGORIES:Vinyasa Flow Yoga
END:VEVENT
BEGIN:VEVENT
DTSTART;TZID=America/Chicago:20250814T171500
DTEND;TZID=America/Chicago:20250814T181500
DTSTAMP:20260423T160214
CREATED:20250614T201406Z
LAST-MODIFIED:20250614T201406Z
UID:20855-1755191700-1755195300@elevatedyoga.net
SUMMARY:Yoga with Silk Stretches - 8/14/2024
DESCRIPTION:The aerial yoga hammock is a very versatile prop and it can be a lot of fun to explore creative ways to incorporate it into our yoga practice without getting off the ground. In this class are looking to deepen the practice through exploration of familiar poses with the aid of the silks. These classes end in a blissful savasana\, cocooned in a hammock. \nPlease check out our Policies and FAQs before registering:\nStudio Policies and FAQ
URL:https://elevatedyoga.net/class/yoga-with-silk-stretches-8-14-2024/
LOCATION:Elevated Yoga Studio\, 820 Park Avenue\, Beaver Dam\, WI\, 53916\, United States
CATEGORIES:Aerial Yoga,Vinyasa Flow Yoga
END:VEVENT
BEGIN:VEVENT
DTSTART;TZID=America/Chicago:20250812T163000
DTEND;TZID=America/Chicago:20250812T173000
DTSTAMP:20260423T160214
CREATED:20250529T165359Z
LAST-MODIFIED:20250529T165359Z
UID:20748-1755016200-1755019800@elevatedyoga.net
SUMMARY:Yoga with Silk Stretches - 8/12/2025
DESCRIPTION:The aerial yoga hammock is a very versatile prop and it can be a lot of fun to explore creative ways to incorporate it into our yoga practice without getting off the ground. In this class are looking to deepen the practice through exploration of familiar poses with the aid of the silks. These classes end in a blissful savasana\, cocooned in a hammock. \nPlease check out our Policies and FAQs before registering:\nStudio Policies and FAQ
URL:https://elevatedyoga.net/class/yoga-with-silk-stretches-8-12-2025/
LOCATION:Elevated Yoga Studio\, 820 Park Avenue\, Beaver Dam\, WI\, 53916\, United States
CATEGORIES:Aerial Yoga,Vinyasa Flow Yoga
END:VEVENT
BEGIN:VEVENT
DTSTART;TZID=America/Chicago:20250807T171500
DTEND;TZID=America/Chicago:20250807T181500
DTSTAMP:20260423T160214
CREATED:20250523T224903Z
LAST-MODIFIED:20250523T224903Z
UID:20724-1754586900-1754590500@elevatedyoga.net
SUMMARY:Yoga with Silk Stretches - 8/7/2024
DESCRIPTION:The aerial yoga hammock is a very versatile prop and it can be a lot of fun to explore creative ways to incorporate it into our yoga practice without getting off the ground. In this class are looking to deepen the practice through exploration of familiar poses with the aid of the silks. These classes end in a blissful savasana\, cocooned in a hammock. \nPlease check out our Policies and FAQs before registering:\nStudio Policies and FAQ
URL:https://elevatedyoga.net/class/yoga-with-silk-stretches-8-7-2024/
LOCATION:Elevated Yoga Studio\, 820 Park Avenue\, Beaver Dam\, WI\, 53916\, United States
CATEGORIES:Aerial Yoga,Vinyasa Flow Yoga
END:VEVENT
BEGIN:VEVENT
DTSTART;TZID=America/Chicago:20250805T163000
DTEND;TZID=America/Chicago:20250805T173000
DTSTAMP:20260423T160214
CREATED:20250529T165230Z
LAST-MODIFIED:20250529T165230Z
UID:20746-1754411400-1754415000@elevatedyoga.net
SUMMARY:Yoga with Silk Stretches - 8/5/2025
DESCRIPTION:The aerial yoga hammock is a very versatile prop and it can be a lot of fun to explore creative ways to incorporate it into our yoga practice without getting off the ground. In this class are looking to deepen the practice through exploration of familiar poses with the aid of the silks. These classes end in a blissful savasana\, cocooned in a hammock. \nPlease check out our Policies and FAQs before registering:\nStudio Policies and FAQ
URL:https://elevatedyoga.net/class/yoga-with-silk-stretches-8-5-2025/
LOCATION:Elevated Yoga Studio\, 820 Park Avenue\, Beaver Dam\, WI\, 53916\, United States
CATEGORIES:Aerial Yoga,Vinyasa Flow Yoga
END:VEVENT
BEGIN:VEVENT
DTSTART;TZID=America/Chicago:20250731T171500
DTEND;TZID=America/Chicago:20250731T181500
DTSTAMP:20260423T160214
CREATED:20250523T224744Z
LAST-MODIFIED:20250523T224744Z
UID:20722-1753982100-1753985700@elevatedyoga.net
SUMMARY:Yoga with Silk Stretches - 7/31/2024
DESCRIPTION:The aerial yoga hammock is a very versatile prop and it can be a lot of fun to explore creative ways to incorporate it into our yoga practice without getting off the ground. In this class are looking to deepen the practice through exploration of familiar poses with the aid of the silks. These classes end in a blissful savasana\, cocooned in a hammock. \nPlease check out our Policies and FAQs before registering:\nStudio Policies and FAQ
URL:https://elevatedyoga.net/class/yoga-with-silk-stretches-7-31-2024/
LOCATION:Elevated Yoga Studio\, 820 Park Avenue\, Beaver Dam\, WI\, 53916\, United States
CATEGORIES:Aerial Yoga,Vinyasa Flow Yoga
END:VEVENT
BEGIN:VEVENT
DTSTART;TZID=America/Chicago:20250729T163000
DTEND;TZID=America/Chicago:20250729T173000
DTSTAMP:20260423T160214
CREATED:20250529T165133Z
LAST-MODIFIED:20250529T165133Z
UID:20744-1753806600-1753810200@elevatedyoga.net
SUMMARY:Yoga with Silk Stretches - 7/29/2025
DESCRIPTION:The aerial yoga hammock is a very versatile prop and it can be a lot of fun to explore creative ways to incorporate it into our yoga practice without getting off the ground. In this class are looking to deepen the practice through exploration of familiar poses with the aid of the silks. These classes end in a blissful savasana\, cocooned in a hammock. \nPlease check out our Policies and FAQs before registering:\nStudio Policies and FAQ
URL:https://elevatedyoga.net/class/yoga-with-silk-stretches-7-29-2025/
LOCATION:Elevated Yoga Studio\, 820 Park Avenue\, Beaver Dam\, WI\, 53916\, United States
CATEGORIES:Aerial Yoga,Vinyasa Flow Yoga
END:VEVENT
BEGIN:VEVENT
DTSTART;TZID=America/Chicago:20250725T093000
DTEND;TZID=America/Chicago:20250725T103000
DTSTAMP:20260423T160214
CREATED:20250523T225402Z
LAST-MODIFIED:20250523T225402Z
UID:20730-1753435800-1753439400@elevatedyoga.net
SUMMARY:Vinyasa Flow Yoga (Studio) – 7/25/2025
DESCRIPTION:Clear your mind of stress and find yourself in the present moment! This vinyasa-style class is beginner-friendly and focuses on mindful movement and pairing the poses with breathwork.  We will begin and end each class with a short meditation and you will leave feeling strong\, refreshed\, and ready to slay your busy life! \nPlease check out our Policies and FAQs before registering:\nStudio Policies and FAQ
URL:https://elevatedyoga.net/class/vinyasa-flow-yoga-studio-7-25-2025/
LOCATION:Elevated Yoga Studio\, 820 Park Avenue\, Beaver Dam\, WI\, 53916\, United States
CATEGORIES:Vinyasa Flow Yoga
END:VEVENT
BEGIN:VEVENT
DTSTART;TZID=America/Chicago:20250724T171500
DTEND;TZID=America/Chicago:20250724T181500
DTSTAMP:20260423T160214
CREATED:20250523T224649Z
LAST-MODIFIED:20250523T224649Z
UID:20720-1753377300-1753380900@elevatedyoga.net
SUMMARY:Yoga with Silk Stretches - 7/24/2024
DESCRIPTION:The aerial yoga hammock is a very versatile prop and it can be a lot of fun to explore creative ways to incorporate it into our yoga practice without getting off the ground. In this class are looking to deepen the practice through exploration of familiar poses with the aid of the silks. These classes end in a blissful savasana\, cocooned in a hammock. \nPlease check out our Policies and FAQs before registering:\nStudio Policies and FAQ
URL:https://elevatedyoga.net/class/yoga-with-silk-stretches-7-24-2024/
LOCATION:Elevated Yoga Studio\, 820 Park Avenue\, Beaver Dam\, WI\, 53916\, United States
CATEGORIES:Aerial Yoga,Vinyasa Flow Yoga
END:VEVENT
BEGIN:VEVENT
DTSTART;TZID=America/Chicago:20250722T163000
DTEND;TZID=America/Chicago:20250722T173000
DTSTAMP:20260423T160214
CREATED:20250529T165040Z
LAST-MODIFIED:20250529T165040Z
UID:20742-1753201800-1753205400@elevatedyoga.net
SUMMARY:Yoga with Silk Stretches - 7/22/2025
DESCRIPTION:The aerial yoga hammock is a very versatile prop and it can be a lot of fun to explore creative ways to incorporate it into our yoga practice without getting off the ground. In this class are looking to deepen the practice through exploration of familiar poses with the aid of the silks. These classes end in a blissful savasana\, cocooned in a hammock. \nPlease check out our Policies and FAQs before registering:\nStudio Policies and FAQ
URL:https://elevatedyoga.net/class/yoga-with-silk-stretches-7-22-2025/
LOCATION:Elevated Yoga Studio\, 820 Park Avenue\, Beaver Dam\, WI\, 53916\, United States
CATEGORIES:Aerial Yoga,Vinyasa Flow Yoga
END:VEVENT
BEGIN:VEVENT
DTSTART;TZID=America/Chicago:20250718T093000
DTEND;TZID=America/Chicago:20250718T103000
DTSTAMP:20260423T160214
CREATED:20250523T225305Z
LAST-MODIFIED:20250523T225305Z
UID:20728-1752831000-1752834600@elevatedyoga.net
SUMMARY:Vinyasa Flow Yoga (Studio) – 7/18/2025
DESCRIPTION:Clear your mind of stress and find yourself in the present moment! This vinyasa-style class is beginner-friendly and focuses on mindful movement and pairing the poses with breathwork.  We will begin and end each class with a short meditation and you will leave feeling strong\, refreshed\, and ready to slay your busy life! \nPlease check out our Policies and FAQs before registering:\nStudio Policies and FAQ
URL:https://elevatedyoga.net/class/vinyasa-flow-yoga-studio-7-18-2025/
LOCATION:Elevated Yoga Studio\, 820 Park Avenue\, Beaver Dam\, WI\, 53916\, United States
CATEGORIES:Vinyasa Flow Yoga
END:VEVENT
BEGIN:VEVENT
DTSTART;TZID=America/Chicago:20250717T171500
DTEND;TZID=America/Chicago:20250717T181500
DTSTAMP:20260423T160214
CREATED:20250523T224544Z
LAST-MODIFIED:20250523T224544Z
UID:20719-1752772500-1752776100@elevatedyoga.net
SUMMARY:Yoga with Silk Stretches - 7/17/2024
DESCRIPTION:The aerial yoga hammock is a very versatile prop and it can be a lot of fun to explore creative ways to incorporate it into our yoga practice without getting off the ground. In this class are looking to deepen the practice through exploration of familiar poses with the aid of the silks. These classes end in a blissful savasana\, cocooned in a hammock. \nPlease check out our Policies and FAQs before registering:\nStudio Policies and FAQ
URL:https://elevatedyoga.net/class/yoga-with-silk-stretches-7-17-2024/
LOCATION:Elevated Yoga Studio\, 820 Park Avenue\, Beaver Dam\, WI\, 53916\, United States
CATEGORIES:Aerial Yoga,Vinyasa Flow Yoga
END:VEVENT
BEGIN:VEVENT
DTSTART;TZID=America/Chicago:20250715T163000
DTEND;TZID=America/Chicago:20250715T173000
DTSTAMP:20260423T160214
CREATED:20250522T194301Z
LAST-MODIFIED:20250522T194301Z
UID:20688-1752597000-1752600600@elevatedyoga.net
SUMMARY:Yoga with Silk Stretches - 7/15/2025
DESCRIPTION:The aerial yoga hammock is a very versatile prop and it can be a lot of fun to explore creative ways to incorporate it into our yoga practice without getting off the ground. In this class are looking to deepen the practice through exploration of familiar poses with the aid of the silks. These classes end in a blissful savasana\, cocooned in a hammock. \nPlease check out our Policies and FAQs before registering:\nStudio Policies and FAQ
URL:https://elevatedyoga.net/class/yoga-with-silk-stretches-7-15-2025-2/
LOCATION:Elevated Yoga Studio\, 820 Park Avenue\, Beaver Dam\, WI\, 53916\, United States
CATEGORIES:Aerial Yoga,Vinyasa Flow Yoga
END:VEVENT
BEGIN:VEVENT
DTSTART;TZID=America/Chicago:20250711T093000
DTEND;TZID=America/Chicago:20250711T103000
DTSTAMP:20260423T160214
CREATED:20250523T225214Z
LAST-MODIFIED:20250523T225214Z
UID:20726-1752226200-1752229800@elevatedyoga.net
SUMMARY:Vinyasa Flow Yoga (Studio) – 7/11/2025
DESCRIPTION:Clear your mind of stress and find yourself in the present moment! This vinyasa-style class is beginner-friendly and focuses on mindful movement and pairing the poses with breathwork.  We will begin and end each class with a short meditation and you will leave feeling strong\, refreshed\, and ready to slay your busy life! \nPlease check out our Policies and FAQs before registering:\nStudio Policies and FAQ
URL:https://elevatedyoga.net/class/vinyasa-flow-yoga-studio-7-11-2025/
LOCATION:Elevated Yoga Studio\, 820 Park Avenue\, Beaver Dam\, WI\, 53916\, United States
CATEGORIES:Vinyasa Flow Yoga
END:VEVENT
BEGIN:VEVENT
DTSTART;TZID=America/Chicago:20250710T171500
DTEND;TZID=America/Chicago:20250710T181500
DTSTAMP:20260423T160214
CREATED:20250523T224436Z
LAST-MODIFIED:20250523T224436Z
UID:20717-1752167700-1752171300@elevatedyoga.net
SUMMARY:Yoga with Silk Stretches - 7/10/2024
DESCRIPTION:The aerial yoga hammock is a very versatile prop and it can be a lot of fun to explore creative ways to incorporate it into our yoga practice without getting off the ground. In this class are looking to deepen the practice through exploration of familiar poses with the aid of the silks. These classes end in a blissful savasana\, cocooned in a hammock. \nPlease check out our Policies and FAQs before registering:\nStudio Policies and FAQ
URL:https://elevatedyoga.net/class/yoga-with-silk-stretches-7-10-2024/
LOCATION:Elevated Yoga Studio\, 820 Park Avenue\, Beaver Dam\, WI\, 53916\, United States
CATEGORIES:Aerial Yoga,Vinyasa Flow Yoga
END:VEVENT
BEGIN:VEVENT
DTSTART;TZID=America/Chicago:20250708T163000
DTEND;TZID=America/Chicago:20250708T173000
DTSTAMP:20260423T160214
CREATED:20250522T193549Z
LAST-MODIFIED:20250522T193549Z
UID:20684-1751992200-1751995800@elevatedyoga.net
SUMMARY:Yoga with Silk Stretches - 7/8/2025
DESCRIPTION:The aerial yoga hammock is a very versatile prop and it can be a lot of fun to explore creative ways to incorporate it into our yoga practice without getting off the ground. In this class are looking to deepen the practice through exploration of familiar poses with the aid of the silks. These classes end in a blissful savasana\, cocooned in a hammock. \nPlease check out our Policies and FAQs before registering:\nStudio Policies and FAQ
URL:https://elevatedyoga.net/class/yoga-with-silk-stretches-7-8-2025/
LOCATION:Elevated Yoga Studio\, 820 Park Avenue\, Beaver Dam\, WI\, 53916\, United States
CATEGORIES:Aerial Yoga,Vinyasa Flow Yoga
END:VEVENT
BEGIN:VEVENT
DTSTART;TZID=America/Chicago:20250701T163000
DTEND;TZID=America/Chicago:20250701T173000
DTSTAMP:20260423T160214
CREATED:20250501T131025Z
LAST-MODIFIED:20250501T131025Z
UID:20555-1751387400-1751391000@elevatedyoga.net
SUMMARY:Yoga with Silk Stretches - 7/1/2025
DESCRIPTION:The aerial yoga hammock is a very versatile prop and it can be a lot of fun to explore creative ways to incorporate it into our yoga practice without getting off the ground. In this class are looking to deepen the practice through exploration of familiar poses with the aid of the silks. These classes end in a blissful savasana\, cocooned in a hammock. \nPlease check out our Policies and FAQs before registering:\nStudio Policies and FAQ
URL:https://elevatedyoga.net/class/yoga-with-silk-stretches-7-1-2025/
LOCATION:Elevated Yoga Studio\, 820 Park Avenue\, Beaver Dam\, WI\, 53916\, United States
CATEGORIES:Aerial Yoga,Vinyasa Flow Yoga
END:VEVENT
BEGIN:VEVENT
DTSTART;TZID=America/Chicago:20250627T093000
DTEND;TZID=America/Chicago:20250627T103000
DTSTAMP:20260423T160214
CREATED:20250503T020543Z
LAST-MODIFIED:20250503T020543Z
UID:20610-1751016600-1751020200@elevatedyoga.net
SUMMARY:Vinyasa Flow Yoga (Studio) – 6/27/2025
DESCRIPTION:Clear your mind of stress and find yourself in the present moment! This vinyasa-style class is beginner-friendly and focuses on mindful movement and pairing the poses with breathwork.  We will begin and end each class with a short meditation and you will leave feeling strong\, refreshed\, and ready to slay your busy life! \nPlease check out our Policies and FAQs before registering:\nStudio Policies and FAQ
URL:https://elevatedyoga.net/class/vinyasa-flow-yoga-studio-6-27-2025/
LOCATION:Elevated Yoga Studio\, 820 Park Avenue\, Beaver Dam\, WI\, 53916\, United States
CATEGORIES:Vinyasa Flow Yoga
END:VEVENT
BEGIN:VEVENT
DTSTART;TZID=America/Chicago:20250626T171500
DTEND;TZID=America/Chicago:20250626T181500
DTSTAMP:20260423T160214
CREATED:20250523T224150Z
LAST-MODIFIED:20250523T224150Z
UID:20713-1750958100-1750961700@elevatedyoga.net
SUMMARY:Yoga with Silk Stretches - 6/26/2024
DESCRIPTION:The aerial yoga hammock is a very versatile prop and it can be a lot of fun to explore creative ways to incorporate it into our yoga practice without getting off the ground. In this class are looking to deepen the practice through exploration of familiar poses with the aid of the silks. These classes end in a blissful savasana\, cocooned in a hammock. \nPlease check out our Policies and FAQs before registering:\nStudio Policies and FAQ
URL:https://elevatedyoga.net/class/yoga-with-silk-stretches-6-26-2024/
LOCATION:Elevated Yoga Studio\, 820 Park Avenue\, Beaver Dam\, WI\, 53916\, United States
CATEGORIES:Aerial Yoga,Vinyasa Flow Yoga
END:VEVENT
BEGIN:VEVENT
DTSTART;TZID=America/Chicago:20250624T163000
DTEND;TZID=America/Chicago:20250624T173000
DTSTAMP:20260423T160214
CREATED:20250501T130925Z
LAST-MODIFIED:20250501T130925Z
UID:20553-1750782600-1750786200@elevatedyoga.net
SUMMARY:Yoga with Silk Stretches - 6/24/2025
DESCRIPTION:The aerial yoga hammock is a very versatile prop and it can be a lot of fun to explore creative ways to incorporate it into our yoga practice without getting off the ground. In this class are looking to deepen the practice through exploration of familiar poses with the aid of the silks. These classes end in a blissful savasana\, cocooned in a hammock. \nPlease check out our Policies and FAQs before registering:\nStudio Policies and FAQ
URL:https://elevatedyoga.net/class/yoga-with-silk-stretches-6-24-2025/
LOCATION:Elevated Yoga Studio\, 820 Park Avenue\, Beaver Dam\, WI\, 53916\, United States
CATEGORIES:Aerial Yoga,Vinyasa Flow Yoga
END:VEVENT
BEGIN:VEVENT
DTSTART;TZID=America/Chicago:20250623T184500
DTEND;TZID=America/Chicago:20250623T194500
DTSTAMP:20260423T160214
CREATED:20250523T010410Z
LAST-MODIFIED:20250523T010410Z
UID:20696-1750704300-1750707900@elevatedyoga.net
SUMMARY:Vinyasa Flow Yoga – 6/23/2025
DESCRIPTION:Clear your mind of stress and find yourself in the present moment! This vinyasa-style class is beginner-friendly and focuses on mindful movement and pairing the poses with breathwork.  We will begin and end each class with a short meditation and you will leave feeling strong\, refreshed\, and ready to slay your busy life! \nPlease check out our Policies and FAQs before registering:\nStudio Policies and FAQ
URL:https://elevatedyoga.net/class/vinyasa-flow-yoga-6-23-2025/
LOCATION:Elevated Yoga Studio\, 820 Park Avenue\, Beaver Dam\, WI\, 53916\, United States
CATEGORIES:Vinyasa Flow Yoga
END:VEVENT
BEGIN:VEVENT
DTSTART;TZID=America/Chicago:20250620T093000
DTEND;TZID=America/Chicago:20250620T103000
DTSTAMP:20260423T160214
CREATED:20250503T020447Z
LAST-MODIFIED:20250503T020447Z
UID:20608-1750411800-1750415400@elevatedyoga.net
SUMMARY:Vinyasa Flow Yoga (Studio) – 6/20/2025
DESCRIPTION:Clear your mind of stress and find yourself in the present moment! This vinyasa-style class is beginner-friendly and focuses on mindful movement and pairing the poses with breathwork.  We will begin and end each class with a short meditation and you will leave feeling strong\, refreshed\, and ready to slay your busy life! \nPlease check out our Policies and FAQs before registering:\nStudio Policies and FAQ
URL:https://elevatedyoga.net/class/vinyasa-flow-yoga-studio-6-20-2025/
LOCATION:Elevated Yoga Studio\, 820 Park Avenue\, Beaver Dam\, WI\, 53916\, United States
CATEGORIES:Vinyasa Flow Yoga
END:VEVENT
BEGIN:VEVENT
DTSTART;TZID=America/Chicago:20250619T171500
DTEND;TZID=America/Chicago:20250619T181500
DTSTAMP:20260423T160214
CREATED:20250523T224022Z
LAST-MODIFIED:20250523T224022Z
UID:20711-1750353300-1750356900@elevatedyoga.net
SUMMARY:Yoga with Silk Stretches - 6/19/2024
DESCRIPTION:The aerial yoga hammock is a very versatile prop and it can be a lot of fun to explore creative ways to incorporate it into our yoga practice without getting off the ground. In this class are looking to deepen the practice through exploration of familiar poses with the aid of the silks. These classes end in a blissful savasana\, cocooned in a hammock. \nPlease check out our Policies and FAQs before registering:\nStudio Policies and FAQ
URL:https://elevatedyoga.net/class/yoga-with-silk-stretches-6-19-2024/
LOCATION:Elevated Yoga Studio\, 820 Park Avenue\, Beaver Dam\, WI\, 53916\, United States
CATEGORIES:Aerial Yoga,Vinyasa Flow Yoga
END:VEVENT
BEGIN:VEVENT
DTSTART;TZID=America/Chicago:20250617T163000
DTEND;TZID=America/Chicago:20250617T173000
DTSTAMP:20260423T160214
CREATED:20250501T130821Z
LAST-MODIFIED:20250501T130821Z
UID:20551-1750177800-1750181400@elevatedyoga.net
SUMMARY:Yoga with Silk Stretches - 6/17/2025
DESCRIPTION:The aerial yoga hammock is a very versatile prop and it can be a lot of fun to explore creative ways to incorporate it into our yoga practice without getting off the ground. In this class are looking to deepen the practice through exploration of familiar poses with the aid of the silks. These classes end in a blissful savasana\, cocooned in a hammock. \nPlease check out our Policies and FAQs before registering:\nStudio Policies and FAQ
URL:https://elevatedyoga.net/class/yoga-with-silk-stretches-6-17-2025/
LOCATION:Elevated Yoga Studio\, 820 Park Avenue\, Beaver Dam\, WI\, 53916\, United States
CATEGORIES:Aerial Yoga,Vinyasa Flow Yoga
END:VEVENT
BEGIN:VEVENT
DTSTART;TZID=America/Chicago:20250616T184500
DTEND;TZID=America/Chicago:20250616T194500
DTSTAMP:20260423T160214
CREATED:20250523T010206Z
LAST-MODIFIED:20250523T010206Z
UID:20694-1750099500-1750103100@elevatedyoga.net
SUMMARY:Vinyasa Flow Yoga – 6/16/2025
DESCRIPTION:Clear your mind of stress and find yourself in the present moment! This vinyasa-style class is beginner-friendly and focuses on mindful movement and pairing the poses with breathwork.  We will begin and end each class with a short meditation and you will leave feeling strong\, refreshed\, and ready to slay your busy life! \nPlease check out our Policies and FAQs before registering:\nStudio Policies and FAQ
URL:https://elevatedyoga.net/class/vinyasa-flow-yoga-6-16-2025/
LOCATION:Elevated Yoga Studio\, 820 Park Avenue\, Beaver Dam\, WI\, 53916\, United States
CATEGORIES:Vinyasa Flow Yoga
END:VEVENT
BEGIN:VEVENT
DTSTART;TZID=America/Chicago:20250613T093000
DTEND;TZID=America/Chicago:20250613T103000
DTSTAMP:20260423T160214
CREATED:20250503T020356Z
LAST-MODIFIED:20250503T020356Z
UID:20606-1749807000-1749810600@elevatedyoga.net
SUMMARY:Vinyasa Flow Yoga (Studio) – 6/13/2025
DESCRIPTION:Clear your mind of stress and find yourself in the present moment! This vinyasa-style class is beginner-friendly and focuses on mindful movement and pairing the poses with breathwork.  We will begin and end each class with a short meditation and you will leave feeling strong\, refreshed\, and ready to slay your busy life! \nPlease check out our Policies and FAQs before registering:\nStudio Policies and FAQ
URL:https://elevatedyoga.net/class/vinyasa-flow-yoga-studio-6-13-2025/
LOCATION:Elevated Yoga Studio\, 820 Park Avenue\, Beaver Dam\, WI\, 53916\, United States
CATEGORIES:Vinyasa Flow Yoga
END:VEVENT
BEGIN:VEVENT
DTSTART;TZID=America/Chicago:20250612T171500
DTEND;TZID=America/Chicago:20250612T181500
DTSTAMP:20260423T160214
CREATED:20250424T214855Z
LAST-MODIFIED:20250519T191004Z
UID:20518-1749748500-1749752100@elevatedyoga.net
SUMMARY:Yoga with Silk Stretches - 6/12/2024
DESCRIPTION:The aerial yoga hammock is a very versatile prop and it can be a lot of fun to explore creative ways to incorporate it into our yoga practice without getting off the ground. In this class are looking to deepen the practice through exploration of familiar poses with the aid of the silks. These classes end in a blissful savasana\, cocooned in a hammock. \nPlease check out our Policies and FAQs before registering:\nStudio Policies and FAQ
URL:https://elevatedyoga.net/class/yoga-with-silk-stretches-6-5-2024/
LOCATION:Elevated Yoga Studio\, 820 Park Avenue\, Beaver Dam\, WI\, 53916\, United States
CATEGORIES:Aerial Yoga,Vinyasa Flow Yoga
END:VEVENT
BEGIN:VEVENT
DTSTART;TZID=America/Chicago:20250610T163000
DTEND;TZID=America/Chicago:20250610T173000
DTSTAMP:20260423T160214
CREATED:20250501T130724Z
LAST-MODIFIED:20250501T130724Z
UID:20549-1749573000-1749576600@elevatedyoga.net
SUMMARY:Yoga with Silk Stretches - 6/10/2025
DESCRIPTION:The aerial yoga hammock is a very versatile prop and it can be a lot of fun to explore creative ways to incorporate it into our yoga practice without getting off the ground. In this class are looking to deepen the practice through exploration of familiar poses with the aid of the silks. These classes end in a blissful savasana\, cocooned in a hammock. \nPlease check out our Policies and FAQs before registering:\nStudio Policies and FAQ
URL:https://elevatedyoga.net/class/yoga-with-silk-stretches-6-10-2025/
LOCATION:Elevated Yoga Studio\, 820 Park Avenue\, Beaver Dam\, WI\, 53916\, United States
CATEGORIES:Aerial Yoga,Vinyasa Flow Yoga
END:VEVENT
BEGIN:VEVENT
DTSTART;TZID=America/Chicago:20250609T173000
DTEND;TZID=America/Chicago:20250609T194500
DTSTAMP:20260423T160214
CREATED:20250325T172920Z
LAST-MODIFIED:20250610T015344Z
UID:20371-1749490200-1749498300@elevatedyoga.net
SUMMARY:SPECIAL EVENTS - Yoga in the Peony Fields - Vinyasa and Nidra - 6/9/2025
DESCRIPTION:Bring back your summer Zen as you work through a beautiful flow suitable for all levels\, followed by a restorative and relaxing Yoga Nidra class right in the middle of the peaceful Peony fields at Ovans Farm. \nJoin us at Ovans Peony Farm right outside Beaver Dam for a Yoga Flow class and a Yoga Nidra class in the flower fields where the peonies will be in full bloom. You can chose one class or both! \nYoga Flow – 5:30pm \nYoga Nidra – 6:45pm
URL:https://elevatedyoga.net/class/special-events-yoga-in-the-peony-fields-vinyasa-and-nidra-6-9-2025/
LOCATION:Ovans Peony Farm\, W9904 County Rd CP\, Beaver Dam\, WI\, 53916
CATEGORIES:Vinyasa Flow Yoga
END:VEVENT
BEGIN:VEVENT
DTSTART;TZID=America/Chicago:20250606T093000
DTEND;TZID=America/Chicago:20250606T103000
DTSTAMP:20260423T160214
CREATED:20250503T020218Z
LAST-MODIFIED:20250503T020218Z
UID:20604-1749202200-1749205800@elevatedyoga.net
SUMMARY:Vinyasa Flow Yoga (Studio) – 6/6/2025
DESCRIPTION:Clear your mind of stress and find yourself in the present moment! This vinyasa-style class is beginner-friendly and focuses on mindful movement and pairing the poses with breathwork.  We will begin and end each class with a short meditation and you will leave feeling strong\, refreshed\, and ready to slay your busy life! \nPlease check out our Policies and FAQs before registering:\nStudio Policies and FAQ
URL:https://elevatedyoga.net/class/vinyasa-flow-yoga-studio-6-6-2025/
LOCATION:Elevated Yoga Studio\, 820 Park Avenue\, Beaver Dam\, WI\, 53916\, United States
CATEGORIES:Vinyasa Flow Yoga
END:VEVENT
END:VCALENDAR